BEGIN:VCALENDAR
VERSION:2.0
PRODID:-//OpinioNet - ECPv6.15.20//NONSGML v1.0//EN
CALSCALE:GREGORIAN
METHOD:PUBLISH
X-WR-CALNAME:OpinioNet
X-ORIGINAL-URL:https://www.opinion-net.com/hr/
X-WR-CALDESC:Events for OpinioNet
REFRESH-INTERVAL;VALUE=DURATION:PT1H
X-Robots-Tag:noindex
X-PUBLISHED-TTL:PT1H
BEGIN:VTIMEZONE
TZID:Europe/Vienna
BEGIN:DAYLIGHT
TZOFFSETFROM:+0100
TZOFFSETTO:+0200
TZNAME:CEST
DTSTART:20260329T010000
END:DAYLIGHT
BEGIN:STANDARD
TZOFFSETFROM:+0200
TZOFFSETTO:+0100
TZNAME:CET
DTSTART:20261025T010000
END:STANDARD
BEGIN:DAYLIGHT
TZOFFSETFROM:+0100
TZOFFSETTO:+0200
TZNAME:CEST
DTSTART:20270328T010000
END:DAYLIGHT
BEGIN:STANDARD
TZOFFSETFROM:+0200
TZOFFSETTO:+0100
TZNAME:CET
DTSTART:20271031T010000
END:STANDARD
BEGIN:DAYLIGHT
TZOFFSETFROM:+0100
TZOFFSETTO:+0200
TZNAME:CEST
DTSTART:20280326T010000
END:DAYLIGHT
BEGIN:STANDARD
TZOFFSETFROM:+0200
TZOFFSETTO:+0100
TZNAME:CET
DTSTART:20281029T010000
END:STANDARD
END:VTIMEZONE
BEGIN:VEVENT
DTSTART;TZID=Europe/Vienna:20270405T180000
DTEND;TZID=Europe/Vienna:20270405T190000
DTSTAMP:20260423T004827
CREATED:20260422T092346Z
LAST-MODIFIED:20260422T092811Z
UID:10015725-1806948000-1806951600@www.opinion-net.com
SUMMARY:Kupovina zdravlja vs. Prevencija
DESCRIPTION:[vc_row css=”.vc_custom_1710049368370{padding-top: 25px !important;}”][vc_column]\n			\n					\n						\n\n	\n\n					\n				\n				ZAŠTO JE OVAJ DOGAĐAJ TAKO VAŽAN?\n				\n			\n		Inicijativa pojedinca tj. obitelji može biti učinkovitija od krute strukture sustava.\n\n			\n			\n					\n						\n\n	\n\n					\n				\n				KAKO SE MOGU UKLJUČITI I SUDJELOVATI?\n				\n			\n		Uvjeti i odredbe sudjelovanja bit će poslani pretplatnicima putem e-pošte. \nAko još niste pretplatnik\, a želite sudjelovati u ovom događaju\, kontaktirajte nas putem obrasca na ovoj stranici (ukljucite-se/pretplata) ili nam pišite i pošaljite e-mail na adresu welcome.desk (@) opinion-net. com.\n\n			\n			\n					\n						\n\n	\n\n					\n				\n				KAKO ĆU ZADRŽATI SVOJU PRIVATNOST?\n				\n			\n		Razumijemo vašu potrebu za individualnošću i privatnošću. OpinioNet se dinamički prilagođava željama i potrebama pretplatnika. \nAko želite sudjelovati diskretno\, pošaljite e-mail na office (@) opinion-net.com s “Diskrecija” u predmetu i primit ćete upute kako odabrati dostupne opcije zaštite!\n\n			[/vc_column][/vc_row]
URL:https://www.opinion-net.com/hr/event/kupovina-zdravlja-vs-prevencija-jf-2/2027-04-05/
CATEGORIES:# moderno zdravlje,jour-fixe
ATTACH;FMTTYPE=image/jpeg:https://www.opinion-net.com/wp-content/uploads/2023/04/Buying-vs-Prevention.jpg
LOCATION:https://www.opinion-net.com/hr/event/kupovina-zdravlja-vs-prevencija-jf-2/2027-04-05/
END:VEVENT
BEGIN:VEVENT
DTSTART;TZID=Europe/Vienna:20270406T170000
DTEND;TZID=Europe/Vienna:20270406T180000
DTSTAMP:20260423T004827
CREATED:20250903T231136Z
LAST-MODIFIED:20260417T234334Z
UID:10014417-1807030800-1807034400@www.opinion-net.com
SUMMARY:Istine i zablude o seniorima
DESCRIPTION:[vc_row css=”.vc_custom_1710049368370{padding-top: 25px !important;}”][vc_column]\n			\n					\n						\n\n	\n\n					\n				\n				ZAŠTO JE OVAJ DOGAĐAJ TAKO VAŽAN?\n				\n			\n		Nadamo se da ćemo ispitivanjem stereotipa pridonijeti točnijem i nijansiranijem razumijevanju starijih ljudi i starenja.\n\n			\n			\n					\n						\n\n	\n\n					\n				\n				KAKO SE MOGU UKLJUČITI I SUDJELOVATI?\n				\n			\n		Uvjeti i odredbe sudjelovanja bit će poslani pretplatnicima putem e-pošte. \nAko još niste pretplatnik\, a želite sudjelovati u ovom događaju\, kontaktirajte nas putem obrasca na ovoj stranici (ukljucite-se/pretplata) ili nam pišite i pošaljite e-mail na adresu welcome.desk (@) opinion-net. com.\n\n			\n			\n					\n						\n\n	\n\n					\n				\n				KAKO ĆU ZADRŽATI SVOJU PRIVATNOST?\n				\n			\n		Razumijemo vašu potrebu za individualnošću i privatnošću. OpinioNet se dinamički prilagođava željama i potrebama pretplatnika. \nAko želite sudjelovati diskretno\, pošaljite e-mail na office (@) opinion-net.com s “Diskrecija” u predmetu i primit ćete upute kako odabrati dostupne opcije zaštite!\n\n			[/vc_column][/vc_row]
URL:https://www.opinion-net.com/hr/event/istine-i-zablude-o-seniorima-id-2/2027-04-06/
CATEGORIES:# aktivno starenje,jour-fixe
ATTACH;FMTTYPE=image/jpeg:https://www.opinion-net.com/wp-content/uploads/2023/04/Truths-about-seniors.jpg
LOCATION:https://www.opinion-net.com/hr/event/istine-i-zablude-o-seniorima-id-2/2027-04-06/
END:VEVENT
BEGIN:VEVENT
DTSTART;TZID=Europe/Vienna:20270408T170000
DTEND;TZID=Europe/Vienna:20270408T180000
DTSTAMP:20260423T004827
CREATED:20250904T003717Z
LAST-MODIFIED:20260417T234544Z
UID:10014428-1807203600-1807207200@www.opinion-net.com
SUMMARY:Možemo li si priuštiti biti stari?
DESCRIPTION:[vc_row css=”.vc_custom_1710049368370{padding-top: 25px !important;}”][vc_column]\n			\n					\n						\n\n	\n\n					\n				\n				ZAŠTO JE OVAJ DOGAĐAJ TAKO VAŽAN?\n				\n			\n		Jedan od strahova s kojima se suočavamo prije ili kasnije u životu je: „Kako ću financirati njegu u starosti? “\nKapitalizirati intelektualne i materijalne resurse se može na dobrobit i korist svih sudionika.\n\n			\n			\n					\n						\n\n	\n\n					\n				\n				KAKO SE MOGU UKLJUČITI I SUDJELOVATI?\n				\n			\n		Uvjeti i odredbe sudjelovanja bit će poslani pretplatnicima putem e-pošte. \nAko još niste pretplatnik\, a želite sudjelovati u ovom događaju\, kontaktirajte nas putem obrasca na ovoj stranici (ukljucite-se/pretplata) ili nam pišite i pošaljite e-mail na adresu welcome.desk (@) opinion-net. com.\n\n			\n			\n					\n						\n\n	\n\n					\n				\n				KAKO ĆU ZADRŽATI SVOJU PRIVATNOST?\n				\n			\n		Razumijemo vašu potrebu za individualnošću i privatnošću. OpinioNet se dinamički prilagođava željama i potrebama pretplatnika. \nAko želite sudjelovati diskretno\, pošaljite e-mail na office (@) opinion-net.com s “Diskrecija” u predmetu i primit ćete upute kako odabrati dostupne opcije zaštite!\n\n			[/vc_column][/vc_row]
URL:https://www.opinion-net.com/hr/event/mozemo-li-si-priustiti-biti-stari-jf/2027-04-08/
CATEGORIES:# inovativno stanovanje,jour-fixe
ATTACH;FMTTYPE=image/jpeg:https://www.opinion-net.com/wp-content/uploads/2023/04/Can-we-afford.jpg
LOCATION:https://www.opinion-net.com/hr/event/mozemo-li-si-priustiti-biti-stari-jf/2027-04-08/
END:VEVENT
BEGIN:VEVENT
DTSTART;TZID=Europe/Vienna:20270412T170000
DTEND;TZID=Europe/Vienna:20270412T180000
DTSTAMP:20260423T004827
CREATED:20250903T235021Z
LAST-MODIFIED:20260418T063950Z
UID:10014714-1807549200-1807552800@www.opinion-net.com
SUMMARY:Posjeta liječniku vs. Telemedicina
DESCRIPTION:[vc_row][vc_column]\n			\n					\n						\n\n	\n\n					\n				\n				ZAŠTO JE OVAJ DOGAĐAJ TAKO VAŽAN?\n				\n			\n		Zdravstvena zaštita se razvija\, a tehnologija je sada ključan dio naših izbora. Danas ćemo raspraviti kako odlučiti između telemedicine i osobnog posjeta liječniku.\nKljučna ideja\nTelemedicina ne zamjenjuje osobne posjete\, već nudi praktičnu alternativu u specifičnim situacijama. \nPrednosti telemedicine\nPraktičnost\nDostupnost\nIsplativost\nPrimjeri učinkovite primjene \nOgraničenja telemedicine\nFizički pregledi\nRadiološke pretrage i laboratorijski testovi\nHitni slučajevi\nTehnološki izazovi \nSavjeti za pacijente prilikom donošenja odluka\nPraktična pitanja koja treba postaviti\nPrimjeri za jasnoću\nHibridni pristup \nŠto je sljedeće u telemedicini?\nOsnaživanje pacijenata\nInteraktivna Q&A sesija \nInteraktivna Q&A sesija\n\n			\n			\n					\n						\n\n	\n\n					\n				\n				KAKO SE MOGU UKLJUČITI I SUDJELOVATI?\n				\n			\n		Uvjeti i odredbe sudjelovanja bit će poslani pretplatnicima putem e-pošte. Ako još niste pretplatnik\, a želite sudjelovati u ovom događaju\, kontaktirajte nas putem obrasca na ovoj stranici (ukljucite-se/pretplata) ili nam pišite i pošaljite e-mail na adresu welcome.desk (@) opinion-net. com.\n\n			\n			\n					\n						\n\n	\n\n					\n				\n				KAKO ĆU ZADRŽATI SVOJU PRIVATNOST?\n				\n			\n		OpinioNet se dinamički prilagođava željama i potrebama pretplatnika. U mogućnosti smo poštovati Vašu individualnost i privatnost. Ako pošaljete mail na office (@) opinion-net.com s predmetom “Za dr. Gjukić – Diskrecija” dobit ćete upute kako komunicirati sa mnom osobno! \nDr. Marijan Gjukić\n\n			[/vc_column][/vc_row]
URL:https://www.opinion-net.com/hr/event/posjeta-lijecniku-vs-telemedicina-jf/2027-04-12/
CATEGORIES:# moderno zdravlje,jour-fixe
ATTACH;FMTTYPE=image/jpeg:https://www.opinion-net.com/wp-content/uploads/2024/02/Posjeta-vs-Telemedicina.jpg
LOCATION:https://www.opinion-net.com/hr/event/posjeta-lijecniku-vs-telemedicina-jf/2027-04-12/
END:VEVENT
BEGIN:VEVENT
DTSTART;TZID=Europe/Vienna:20270413T170000
DTEND;TZID=Europe/Vienna:20270413T180000
DTSTAMP:20260423T004827
CREATED:20250904T003112Z
LAST-MODIFIED:20260418T063636Z
UID:10014703-1807635600-1807639200@www.opinion-net.com
SUMMARY:Usmjeravanje na informacije o dobrim i potrebnim uslugama
DESCRIPTION:[vc_row css=”.vc_custom_1710049368370{padding-top: 25px !important;}”][vc_column]\n			\n					\n						\n\n	\n\n					\n				\n				ZAŠTO JE OVAJ DOGAĐAJ TAKO VAŽAN?\n				\n			\n		Gledamo na zdravlje iz perspektive osiguranja\, poslodavca i obitelji. Troškovi bolesti često su nevidljivi. Nepredvidivi su i visoki. Neizravni troškovi posebno su iznenađujući i problematični.\n\n			\n			\n					\n						\n\n	\n\n					\n				\n				KAKO SE MOGU UKLJUČITI I SUDJELOVATI?\n				\n			\n		Uvjeti i odredbe sudjelovanja bit će poslani pretplatnicima putem e-pošte. \nAko još niste pretplatnik\, a želite sudjelovati u ovom događaju\, kontaktirajte nas putem obrasca na ovoj stranici (ukljucite-se/pretplata) ili nam pišite i pošaljite e-mail na adresu welcome.desk (@) opinion-net. com.\n\n			\n			\n					\n						\n\n	\n\n					\n				\n				KAKO ĆU ZADRŽATI SVOJU PRIVATNOST?\n				\n			\n		Razumijemo vašu potrebu za individualnošću i privatnošću. OpinioNet se dinamički prilagođava željama i potrebama pretplatnika. \nAko želite sudjelovati diskretno\, pošaljite e-mail na office (@) opinion-net.com s “Diskrecija” u predmetu i primit ćete upute kako odabrati dostupne opcije zaštite!\n\n			[/vc_column][/vc_row]
URL:https://www.opinion-net.com/hr/event/usmjeravanje-na-informacije-o-dobrim-i-potrebnim-uslugama-jf/2027-04-13/
CATEGORIES:# aktivno starenje,jour-fixe
ATTACH;FMTTYPE=image/jpeg:https://www.opinion-net.com/wp-content/uploads/2023/04/Guide-to-information.jpg
LOCATION:https://www.opinion-net.com/hr/event/usmjeravanje-na-informacije-o-dobrim-i-potrebnim-uslugama-jf/2027-04-13/
END:VEVENT
END:VCALENDAR