BEGIN:VCALENDAR
VERSION:2.0
PRODID:-//OpinioNet - ECPv6.15.20//NONSGML v1.0//EN
CALSCALE:GREGORIAN
METHOD:PUBLISH
X-ORIGINAL-URL:https://www.opinion-net.com/hr/
X-WR-CALDESC:Events for OpinioNet
REFRESH-INTERVAL;VALUE=DURATION:PT1H
X-Robots-Tag:noindex
X-PUBLISHED-TTL:PT1H
BEGIN:VTIMEZONE
TZID:Europe/Vienna
BEGIN:DAYLIGHT
TZOFFSETFROM:+0100
TZOFFSETTO:+0200
TZNAME:CEST
DTSTART:20240331T010000
END:DAYLIGHT
BEGIN:STANDARD
TZOFFSETFROM:+0200
TZOFFSETTO:+0100
TZNAME:CET
DTSTART:20241027T010000
END:STANDARD
BEGIN:DAYLIGHT
TZOFFSETFROM:+0100
TZOFFSETTO:+0200
TZNAME:CEST
DTSTART:20250330T010000
END:DAYLIGHT
BEGIN:STANDARD
TZOFFSETFROM:+0200
TZOFFSETTO:+0100
TZNAME:CET
DTSTART:20251026T010000
END:STANDARD
BEGIN:DAYLIGHT
TZOFFSETFROM:+0100
TZOFFSETTO:+0200
TZNAME:CEST
DTSTART:20260329T010000
END:DAYLIGHT
BEGIN:STANDARD
TZOFFSETFROM:+0200
TZOFFSETTO:+0100
TZNAME:CET
DTSTART:20261025T010000
END:STANDARD
BEGIN:DAYLIGHT
TZOFFSETFROM:+0100
TZOFFSETTO:+0200
TZNAME:CEST
DTSTART:20270328T010000
END:DAYLIGHT
BEGIN:STANDARD
TZOFFSETFROM:+0200
TZOFFSETTO:+0100
TZNAME:CET
DTSTART:20271031T010000
END:STANDARD
END:VTIMEZONE
BEGIN:VEVENT
DTSTART;TZID=Europe/Vienna:20260119T160000
DTEND;TZID=Europe/Vienna:20260119T170000
DTSTAMP:20260420T212101
CREATED:20240225T164601Z
LAST-MODIFIED:20250906T192942Z
UID:10013092-1768838400-1768842000@www.opinion-net.com
SUMMARY:Diskretno do stručnjaka za moderno zdravlje
DESCRIPTION:[vc_row css=”.vc_custom_1710053130516{padding-top: 25px !important;}”][vc_column]\n			\n					\n						\n\n	\n\n					\n				\n				ZAŠTO JE OVAJ DOGAĐAJ TAKO VAŽAN?\n				\n			\n		Vaše interese diskretno možete stavite u središte naše potrage za zdravstvenim informacijama svakog četvrtog ponedjeljka u mjesecu\n\n			\n			\n					\n						\n\n	\n\n					\n				\n				KAKO SE MOGU UKLJUČITI I SUDJELOVATI?\n				\n			\n		Ovaj event namijenjen je isključivo pretplatnicima. Ukoliko ste zametnuli svoje upute o sudjelovanju na eventima\, javite se i poslat ćemo vam kopiju!\n\n			[/vc_column][/vc_row]
URL:https://www.opinion-net.com/hr/event/pristup-strucnjacima-moderno-zdravlje/2026-01-19/
LOCATION:Collection Business Center\, Tuchlauben 7a\, Beč\, 1010\, Austrija
CATEGORIES:# drugo mišljenje,u četiri oka
ATTACH;FMTTYPE=image/jpeg:https://www.opinion-net.com/wp-content/uploads/2024/02/F2F-Health.jpg
END:VEVENT
BEGIN:VEVENT
DTSTART;TZID=Europe/Vienna:20260116T160000
DTEND;TZID=Europe/Vienna:20260116T170000
DTSTAMP:20260420T212101
CREATED:20240226T153849Z
LAST-MODIFIED:20250831T125628Z
UID:10013191-1768579200-1768582800@www.opinion-net.com
SUMMARY:Diskretno do stručnjaka za autonomnu mobilnost
DESCRIPTION:[vc_row css=”.vc_custom_1710053130516{padding-top: 25px !important;}”][vc_column]\n			\n					\n						\n\n	\n\n					\n				\n				ZAŠTO JE OVAJ DOGAĐAJ TAKO VAŽAN?\n				\n			\n		Ako niste upoznati s temom autonomne mobilnosti\, svaki je četvrti petak posvećen diskretnom pristupu vaše samostalnosti i samoodređenja.\n\n			\n			\n					\n						\n\n	\n\n					\n				\n				KAKO SE MOGU UKLJUČITI I SUDJELOVATI?\n				\n			\n		Ovaj event namijenjen je isključivo pretplatnicima. Ukoliko ste zametnuli svoje upute o sudjelovanju na eventima\, javite se i poslat ćemo vam kopiju!\n\n			[/vc_column][/vc_row]
URL:https://www.opinion-net.com/hr/event/pristup-strucnjacima-autonomna-mobilnost/2026-01-16/
LOCATION:Collection Business Center\, Tuchlauben 7a\, Beč\, 1010\, Austrija
CATEGORIES:# autonomna mobilnost,# drugo mišljenje,u četiri oka
ATTACH;FMTTYPE=image/jpeg:https://www.opinion-net.com/wp-content/uploads/2024/02/F2F-Autonomus.jpg
END:VEVENT
BEGIN:VEVENT
DTSTART;TZID=Europe/Vienna:20260115T160000
DTEND;TZID=Europe/Vienna:20260115T170000
DTSTAMP:20260420T212101
CREATED:20240225T170650Z
LAST-MODIFIED:20250831T125126Z
UID:10013158-1768492800-1768496400@www.opinion-net.com
SUMMARY:Diskretno do stručnjaka za inovativno stanovanje
DESCRIPTION:[vc_row css=”.vc_custom_1710053130516{padding-top: 25px !important;}”][vc_column]\n			\n					\n						\n\n	\n\n					\n				\n				ZAŠTO JE OVAJ DOGAĐAJ TAKO VAŽAN?\n				\n			\n		Četvrti četvrtak u mjesecu rezerviran je za vaše diskretne upite o inovativnom stanovanju. Čak ako su vam razmišljanja avangardna i revolucionarna!\n\n			\n			\n					\n						\n\n	\n\n					\n				\n				KAKO SE MOGU UKLJUČITI I SUDJELOVATI?\n				\n			\n		Ovaj event namijenjen je isključivo pretplatnicima. Ukoliko ste zametnuli svoje upute o sudjelovanju na eventima\, javite se i poslat ćemo vam kopiju!\n\n			[/vc_column][/vc_row]
URL:https://www.opinion-net.com/hr/event/pristup-strucnjacima-inovativno-stanovanje/2026-01-15/
LOCATION:Collection Business Center\, Tuchlauben 7a\, Beč\, 1010\, Austrija
CATEGORIES:# drugo mišljenje,# inovativno stanovanje,u četiri oka
ATTACH;FMTTYPE=image/jpeg:https://www.opinion-net.com/wp-content/uploads/2024/02/F2F-Immo.jpg
END:VEVENT
BEGIN:VEVENT
DTSTART;TZID=Europe/Vienna:20260107T100000
DTEND;TZID=Europe/Vienna:20260107T180000
DTSTAMP:20260420T212101
CREATED:20240208T214945Z
LAST-MODIFIED:20250831T103721Z
UID:10000555-1767780000-1767808800@www.opinion-net.com
SUMMARY:Otvaranje ljetnog Lounge-a
DESCRIPTION:Svečanu ceremonija otvaranja i zajednički susret na ekskluzivnoj lokaciji namijenili smo samo našim vjernim i aktivnim klijentima koji su željni dinamičnog ljetnog odmora. \nDatum: može doći do izmjene\nMjesto: RedBull Hangar 7 Salzburg\nDress Code: Casual/Sporty (prilagođeno temi događaja)\nTroškovi: Nisu uključeni u pretplatu\n# \nProgram događaja uključuje:\n\nCeremonija otvaranja s dobrodošlicom svim prisutnima\nEkskluzivni prikaz mogućnosti i sadržaja OpinioNet Lounge-a \nInterakcija i upoznavanje s ostalim članovima zajednice\nPosebne pogodnosti i iznenađenja za naše vjerne klijente\n\n# \nKako se mogu uključiti i sudjelovati? Kako mogu izraziti svoje mišljenje ili postaviti pitanje?\nUvjeti i odredbe sudjelovanja bit će poslani klijentima putem e-pošte. Ako još niste klijent\, a želite sudjelovati u ovom događaju pošaljite e-mail na adresu welcome.desk (@) gesundheitsverwaltung.at .
URL:https://www.opinion-net.com/hr/event/otvaranje-ljetnog-lounge-a/
LOCATION:Red Bull Hangar-7\, Wilhelm-Spazier-Straße 7A\, Salzburg\, 5020\, Austrija
CATEGORIES:club,event
ATTACH;FMTTYPE=image/jpeg:https://www.opinion-net.com/wp-content/uploads/2024/01/Hangar-7.jpg
END:VEVENT
BEGIN:VEVENT
DTSTART;TZID=Europe/Vienna:20251219T160000
DTEND;TZID=Europe/Vienna:20251219T170000
DTSTAMP:20260420T212101
CREATED:20240226T153849Z
LAST-MODIFIED:20250831T125628Z
UID:10013190-1766160000-1766163600@www.opinion-net.com
SUMMARY:Diskretno do stručnjaka za autonomnu mobilnost
DESCRIPTION:[vc_row css=”.vc_custom_1710053130516{padding-top: 25px !important;}”][vc_column]\n			\n					\n						\n\n	\n\n					\n				\n				ZAŠTO JE OVAJ DOGAĐAJ TAKO VAŽAN?\n				\n			\n		Ako niste upoznati s temom autonomne mobilnosti\, svaki je četvrti petak posvećen diskretnom pristupu vaše samostalnosti i samoodređenja.\n\n			\n			\n					\n						\n\n	\n\n					\n				\n				KAKO SE MOGU UKLJUČITI I SUDJELOVATI?\n				\n			\n		Ovaj event namijenjen je isključivo pretplatnicima. Ukoliko ste zametnuli svoje upute o sudjelovanju na eventima\, javite se i poslat ćemo vam kopiju!\n\n			[/vc_column][/vc_row]
URL:https://www.opinion-net.com/hr/event/pristup-strucnjacima-autonomna-mobilnost/2025-12-19/
LOCATION:Collection Business Center\, Tuchlauben 7a\, Beč\, 1010\, Austrija
CATEGORIES:# autonomna mobilnost,# drugo mišljenje,u četiri oka
ATTACH;FMTTYPE=image/jpeg:https://www.opinion-net.com/wp-content/uploads/2024/02/F2F-Autonomus.jpg
END:VEVENT
BEGIN:VEVENT
DTSTART;TZID=Europe/Vienna:20251218T160000
DTEND;TZID=Europe/Vienna:20251218T170000
DTSTAMP:20260420T212101
CREATED:20240225T170650Z
LAST-MODIFIED:20250831T125126Z
UID:10013157-1766073600-1766077200@www.opinion-net.com
SUMMARY:Diskretno do stručnjaka za inovativno stanovanje
DESCRIPTION:[vc_row css=”.vc_custom_1710053130516{padding-top: 25px !important;}”][vc_column]\n			\n					\n						\n\n	\n\n					\n				\n				ZAŠTO JE OVAJ DOGAĐAJ TAKO VAŽAN?\n				\n			\n		Četvrti četvrtak u mjesecu rezerviran je za vaše diskretne upite o inovativnom stanovanju. Čak ako su vam razmišljanja avangardna i revolucionarna!\n\n			\n			\n					\n						\n\n	\n\n					\n				\n				KAKO SE MOGU UKLJUČITI I SUDJELOVATI?\n				\n			\n		Ovaj event namijenjen je isključivo pretplatnicima. Ukoliko ste zametnuli svoje upute o sudjelovanju na eventima\, javite se i poslat ćemo vam kopiju!\n\n			[/vc_column][/vc_row]
URL:https://www.opinion-net.com/hr/event/pristup-strucnjacima-inovativno-stanovanje/2025-12-18/
LOCATION:Collection Business Center\, Tuchlauben 7a\, Beč\, 1010\, Austrija
CATEGORIES:# drugo mišljenje,# inovativno stanovanje,u četiri oka
ATTACH;FMTTYPE=image/jpeg:https://www.opinion-net.com/wp-content/uploads/2024/02/F2F-Immo.jpg
END:VEVENT
BEGIN:VEVENT
DTSTART;TZID=Europe/Vienna:20251216T160000
DTEND;TZID=Europe/Vienna:20251216T170000
DTSTAMP:20260420T212101
CREATED:20240225T165818Z
LAST-MODIFIED:20250831T124415Z
UID:10013124-1765900800-1765904400@www.opinion-net.com
SUMMARY:Diskretno do stručnjaka za aktivno starenje
DESCRIPTION:[vc_row css=”.vc_custom_1710053130516{padding-top: 25px !important;}”][vc_column]\n			\n					\n						\n\n	\n\n					\n				\n				ZAŠTO JE OVAJ DOGAĐAJ TAKO VAŽAN?\n				\n			\n		Četvrtog utorka u mjesecu omogućeno vam je da nam diskretno kažete svoje interese dok tražimo informacije vezane uz aktivno starenje.\n\n			\n			\n					\n						\n\n	\n\n					\n				\n				KAKO SE MOGU UKLJUČITI I SUDJELOVATI?\n				\n			\n		Ovaj event namijenjen je isključivo pretplatnicima. Ukoliko ste zametnuli svoje upute o sudjelovanju na eventima\, javite se i poslat ćemo vam kopiju!\n\n			[/vc_column][/vc_row]
URL:https://www.opinion-net.com/hr/event/pristup-strucnjacima-aktivno-starenje/2025-12-16/
LOCATION:Collection Business Center\, Tuchlauben 7a\, Beč\, 1010\, Austrija
CATEGORIES:# aktivno starenje,# drugo mišljenje,u četiri oka
ATTACH;FMTTYPE=image/jpeg:https://www.opinion-net.com/wp-content/uploads/2024/02/F2F-Aging.jpg
END:VEVENT
BEGIN:VEVENT
DTSTART;TZID=Europe/Vienna:20251215T160000
DTEND;TZID=Europe/Vienna:20251215T170000
DTSTAMP:20260420T212101
CREATED:20240225T164601Z
LAST-MODIFIED:20250906T192942Z
UID:10013091-1765814400-1765818000@www.opinion-net.com
SUMMARY:Diskretno do stručnjaka za moderno zdravlje
DESCRIPTION:[vc_row css=”.vc_custom_1710053130516{padding-top: 25px !important;}”][vc_column]\n			\n					\n						\n\n	\n\n					\n				\n				ZAŠTO JE OVAJ DOGAĐAJ TAKO VAŽAN?\n				\n			\n		Vaše interese diskretno možete stavite u središte naše potrage za zdravstvenim informacijama svakog četvrtog ponedjeljka u mjesecu\n\n			\n			\n					\n						\n\n	\n\n					\n				\n				KAKO SE MOGU UKLJUČITI I SUDJELOVATI?\n				\n			\n		Ovaj event namijenjen je isključivo pretplatnicima. Ukoliko ste zametnuli svoje upute o sudjelovanju na eventima\, javite se i poslat ćemo vam kopiju!\n\n			[/vc_column][/vc_row]
URL:https://www.opinion-net.com/hr/event/pristup-strucnjacima-moderno-zdravlje/2025-12-15/
LOCATION:Collection Business Center\, Tuchlauben 7a\, Beč\, 1010\, Austrija
CATEGORIES:# drugo mišljenje,u četiri oka
ATTACH;FMTTYPE=image/jpeg:https://www.opinion-net.com/wp-content/uploads/2024/02/F2F-Health.jpg
END:VEVENT
BEGIN:VEVENT
DTSTART;TZID=Europe/Vienna:20251121T160000
DTEND;TZID=Europe/Vienna:20251121T170000
DTSTAMP:20260420T212101
CREATED:20240226T153849Z
LAST-MODIFIED:20250831T125628Z
UID:10013189-1763740800-1763744400@www.opinion-net.com
SUMMARY:Diskretno do stručnjaka za autonomnu mobilnost
DESCRIPTION:[vc_row css=”.vc_custom_1710053130516{padding-top: 25px !important;}”][vc_column]\n			\n					\n						\n\n	\n\n					\n				\n				ZAŠTO JE OVAJ DOGAĐAJ TAKO VAŽAN?\n				\n			\n		Ako niste upoznati s temom autonomne mobilnosti\, svaki je četvrti petak posvećen diskretnom pristupu vaše samostalnosti i samoodređenja.\n\n			\n			\n					\n						\n\n	\n\n					\n				\n				KAKO SE MOGU UKLJUČITI I SUDJELOVATI?\n				\n			\n		Ovaj event namijenjen je isključivo pretplatnicima. Ukoliko ste zametnuli svoje upute o sudjelovanju na eventima\, javite se i poslat ćemo vam kopiju!\n\n			[/vc_column][/vc_row]
URL:https://www.opinion-net.com/hr/event/pristup-strucnjacima-autonomna-mobilnost/2025-11-21/
LOCATION:Collection Business Center\, Tuchlauben 7a\, Beč\, 1010\, Austrija
CATEGORIES:# autonomna mobilnost,# drugo mišljenje,u četiri oka
ATTACH;FMTTYPE=image/jpeg:https://www.opinion-net.com/wp-content/uploads/2024/02/F2F-Autonomus.jpg
END:VEVENT
BEGIN:VEVENT
DTSTART;TZID=Europe/Vienna:20251120T160000
DTEND;TZID=Europe/Vienna:20251120T170000
DTSTAMP:20260420T212101
CREATED:20240225T170650Z
LAST-MODIFIED:20250831T125126Z
UID:10013156-1763654400-1763658000@www.opinion-net.com
SUMMARY:Diskretno do stručnjaka za inovativno stanovanje
DESCRIPTION:[vc_row css=”.vc_custom_1710053130516{padding-top: 25px !important;}”][vc_column]\n			\n					\n						\n\n	\n\n					\n				\n				ZAŠTO JE OVAJ DOGAĐAJ TAKO VAŽAN?\n				\n			\n		Četvrti četvrtak u mjesecu rezerviran je za vaše diskretne upite o inovativnom stanovanju. Čak ako su vam razmišljanja avangardna i revolucionarna!\n\n			\n			\n					\n						\n\n	\n\n					\n				\n				KAKO SE MOGU UKLJUČITI I SUDJELOVATI?\n				\n			\n		Ovaj event namijenjen je isključivo pretplatnicima. Ukoliko ste zametnuli svoje upute o sudjelovanju na eventima\, javite se i poslat ćemo vam kopiju!\n\n			[/vc_column][/vc_row]
URL:https://www.opinion-net.com/hr/event/pristup-strucnjacima-inovativno-stanovanje/2025-11-20/
LOCATION:Collection Business Center\, Tuchlauben 7a\, Beč\, 1010\, Austrija
CATEGORIES:# drugo mišljenje,# inovativno stanovanje,u četiri oka
ATTACH;FMTTYPE=image/jpeg:https://www.opinion-net.com/wp-content/uploads/2024/02/F2F-Immo.jpg
END:VEVENT
BEGIN:VEVENT
DTSTART;TZID=Europe/Vienna:20251118T160000
DTEND;TZID=Europe/Vienna:20251118T170000
DTSTAMP:20260420T212101
CREATED:20240225T165818Z
LAST-MODIFIED:20250831T124415Z
UID:10013123-1763481600-1763485200@www.opinion-net.com
SUMMARY:Diskretno do stručnjaka za aktivno starenje
DESCRIPTION:[vc_row css=”.vc_custom_1710053130516{padding-top: 25px !important;}”][vc_column]\n			\n					\n						\n\n	\n\n					\n				\n				ZAŠTO JE OVAJ DOGAĐAJ TAKO VAŽAN?\n				\n			\n		Četvrtog utorka u mjesecu omogućeno vam je da nam diskretno kažete svoje interese dok tražimo informacije vezane uz aktivno starenje.\n\n			\n			\n					\n						\n\n	\n\n					\n				\n				KAKO SE MOGU UKLJUČITI I SUDJELOVATI?\n				\n			\n		Ovaj event namijenjen je isključivo pretplatnicima. Ukoliko ste zametnuli svoje upute o sudjelovanju na eventima\, javite se i poslat ćemo vam kopiju!\n\n			[/vc_column][/vc_row]
URL:https://www.opinion-net.com/hr/event/pristup-strucnjacima-aktivno-starenje/2025-11-18/
LOCATION:Collection Business Center\, Tuchlauben 7a\, Beč\, 1010\, Austrija
CATEGORIES:# aktivno starenje,# drugo mišljenje,u četiri oka
ATTACH;FMTTYPE=image/jpeg:https://www.opinion-net.com/wp-content/uploads/2024/02/F2F-Aging.jpg
END:VEVENT
BEGIN:VEVENT
DTSTART;TZID=Europe/Vienna:20251117T160000
DTEND;TZID=Europe/Vienna:20251117T170000
DTSTAMP:20260420T212101
CREATED:20240225T164601Z
LAST-MODIFIED:20250906T192942Z
UID:10013090-1763395200-1763398800@www.opinion-net.com
SUMMARY:Diskretno do stručnjaka za moderno zdravlje
DESCRIPTION:[vc_row css=”.vc_custom_1710053130516{padding-top: 25px !important;}”][vc_column]\n			\n					\n						\n\n	\n\n					\n				\n				ZAŠTO JE OVAJ DOGAĐAJ TAKO VAŽAN?\n				\n			\n		Vaše interese diskretno možete stavite u središte naše potrage za zdravstvenim informacijama svakog četvrtog ponedjeljka u mjesecu\n\n			\n			\n					\n						\n\n	\n\n					\n				\n				KAKO SE MOGU UKLJUČITI I SUDJELOVATI?\n				\n			\n		Ovaj event namijenjen je isključivo pretplatnicima. Ukoliko ste zametnuli svoje upute o sudjelovanju na eventima\, javite se i poslat ćemo vam kopiju!\n\n			[/vc_column][/vc_row]
URL:https://www.opinion-net.com/hr/event/pristup-strucnjacima-moderno-zdravlje/2025-11-17/
LOCATION:Collection Business Center\, Tuchlauben 7a\, Beč\, 1010\, Austrija
CATEGORIES:# drugo mišljenje,u četiri oka
ATTACH;FMTTYPE=image/jpeg:https://www.opinion-net.com/wp-content/uploads/2024/02/F2F-Health.jpg
END:VEVENT
BEGIN:VEVENT
DTSTART;TZID=Europe/Vienna:20251021T160000
DTEND;TZID=Europe/Vienna:20251021T170000
DTSTAMP:20260420T212101
CREATED:20240225T165818Z
LAST-MODIFIED:20250831T124415Z
UID:10013122-1761062400-1761066000@www.opinion-net.com
SUMMARY:Diskretno do stručnjaka za aktivno starenje
DESCRIPTION:[vc_row css=”.vc_custom_1710053130516{padding-top: 25px !important;}”][vc_column]\n			\n					\n						\n\n	\n\n					\n				\n				ZAŠTO JE OVAJ DOGAĐAJ TAKO VAŽAN?\n				\n			\n		Četvrtog utorka u mjesecu omogućeno vam je da nam diskretno kažete svoje interese dok tražimo informacije vezane uz aktivno starenje.\n\n			\n			\n					\n						\n\n	\n\n					\n				\n				KAKO SE MOGU UKLJUČITI I SUDJELOVATI?\n				\n			\n		Ovaj event namijenjen je isključivo pretplatnicima. Ukoliko ste zametnuli svoje upute o sudjelovanju na eventima\, javite se i poslat ćemo vam kopiju!\n\n			[/vc_column][/vc_row]
URL:https://www.opinion-net.com/hr/event/pristup-strucnjacima-aktivno-starenje/2025-10-21/
LOCATION:Collection Business Center\, Tuchlauben 7a\, Beč\, 1010\, Austrija
CATEGORIES:# aktivno starenje,# drugo mišljenje,u četiri oka
ATTACH;FMTTYPE=image/jpeg:https://www.opinion-net.com/wp-content/uploads/2024/02/F2F-Aging.jpg
END:VEVENT
BEGIN:VEVENT
DTSTART;TZID=Europe/Vienna:20251020T160000
DTEND;TZID=Europe/Vienna:20251020T170000
DTSTAMP:20260420T212101
CREATED:20240225T164601Z
LAST-MODIFIED:20250906T192942Z
UID:10013089-1760976000-1760979600@www.opinion-net.com
SUMMARY:Diskretno do stručnjaka za moderno zdravlje
DESCRIPTION:[vc_row css=”.vc_custom_1710053130516{padding-top: 25px !important;}”][vc_column]\n			\n					\n						\n\n	\n\n					\n				\n				ZAŠTO JE OVAJ DOGAĐAJ TAKO VAŽAN?\n				\n			\n		Vaše interese diskretno možete stavite u središte naše potrage za zdravstvenim informacijama svakog četvrtog ponedjeljka u mjesecu\n\n			\n			\n					\n						\n\n	\n\n					\n				\n				KAKO SE MOGU UKLJUČITI I SUDJELOVATI?\n				\n			\n		Ovaj event namijenjen je isključivo pretplatnicima. Ukoliko ste zametnuli svoje upute o sudjelovanju na eventima\, javite se i poslat ćemo vam kopiju!\n\n			[/vc_column][/vc_row]
URL:https://www.opinion-net.com/hr/event/pristup-strucnjacima-moderno-zdravlje/2025-10-20/
LOCATION:Collection Business Center\, Tuchlauben 7a\, Beč\, 1010\, Austrija
CATEGORIES:# drugo mišljenje,u četiri oka
ATTACH;FMTTYPE=image/jpeg:https://www.opinion-net.com/wp-content/uploads/2024/02/F2F-Health.jpg
END:VEVENT
BEGIN:VEVENT
DTSTART;TZID=Europe/Vienna:20251017T160000
DTEND;TZID=Europe/Vienna:20251017T170000
DTSTAMP:20260420T212101
CREATED:20240226T153849Z
LAST-MODIFIED:20250831T125628Z
UID:10013188-1760716800-1760720400@www.opinion-net.com
SUMMARY:Diskretno do stručnjaka za autonomnu mobilnost
DESCRIPTION:[vc_row css=”.vc_custom_1710053130516{padding-top: 25px !important;}”][vc_column]\n			\n					\n						\n\n	\n\n					\n				\n				ZAŠTO JE OVAJ DOGAĐAJ TAKO VAŽAN?\n				\n			\n		Ako niste upoznati s temom autonomne mobilnosti\, svaki je četvrti petak posvećen diskretnom pristupu vaše samostalnosti i samoodređenja.\n\n			\n			\n					\n						\n\n	\n\n					\n				\n				KAKO SE MOGU UKLJUČITI I SUDJELOVATI?\n				\n			\n		Ovaj event namijenjen je isključivo pretplatnicima. Ukoliko ste zametnuli svoje upute o sudjelovanju na eventima\, javite se i poslat ćemo vam kopiju!\n\n			[/vc_column][/vc_row]
URL:https://www.opinion-net.com/hr/event/pristup-strucnjacima-autonomna-mobilnost/2025-10-17/
LOCATION:Collection Business Center\, Tuchlauben 7a\, Beč\, 1010\, Austrija
CATEGORIES:# autonomna mobilnost,# drugo mišljenje,u četiri oka
ATTACH;FMTTYPE=image/jpeg:https://www.opinion-net.com/wp-content/uploads/2024/02/F2F-Autonomus.jpg
END:VEVENT
BEGIN:VEVENT
DTSTART;TZID=Europe/Vienna:20251016T160000
DTEND;TZID=Europe/Vienna:20251016T170000
DTSTAMP:20260420T212101
CREATED:20240225T170650Z
LAST-MODIFIED:20250831T125126Z
UID:10013155-1760630400-1760634000@www.opinion-net.com
SUMMARY:Diskretno do stručnjaka za inovativno stanovanje
DESCRIPTION:[vc_row css=”.vc_custom_1710053130516{padding-top: 25px !important;}”][vc_column]\n			\n					\n						\n\n	\n\n					\n				\n				ZAŠTO JE OVAJ DOGAĐAJ TAKO VAŽAN?\n				\n			\n		Četvrti četvrtak u mjesecu rezerviran je za vaše diskretne upite o inovativnom stanovanju. Čak ako su vam razmišljanja avangardna i revolucionarna!\n\n			\n			\n					\n						\n\n	\n\n					\n				\n				KAKO SE MOGU UKLJUČITI I SUDJELOVATI?\n				\n			\n		Ovaj event namijenjen je isključivo pretplatnicima. Ukoliko ste zametnuli svoje upute o sudjelovanju na eventima\, javite se i poslat ćemo vam kopiju!\n\n			[/vc_column][/vc_row]
URL:https://www.opinion-net.com/hr/event/pristup-strucnjacima-inovativno-stanovanje/2025-10-16/
LOCATION:Collection Business Center\, Tuchlauben 7a\, Beč\, 1010\, Austrija
CATEGORIES:# drugo mišljenje,# inovativno stanovanje,u četiri oka
ATTACH;FMTTYPE=image/jpeg:https://www.opinion-net.com/wp-content/uploads/2024/02/F2F-Immo.jpg
END:VEVENT
BEGIN:VEVENT
DTSTART;TZID=Europe/Vienna:20250919T160000
DTEND;TZID=Europe/Vienna:20250919T170000
DTSTAMP:20260420T212101
CREATED:20240226T153849Z
LAST-MODIFIED:20250831T125628Z
UID:10008922-1758297600-1758301200@www.opinion-net.com
SUMMARY:Diskretno do stručnjaka za autonomnu mobilnost
DESCRIPTION:[vc_row css=”.vc_custom_1710053130516{padding-top: 25px !important;}”][vc_column]\n			\n					\n						\n\n	\n\n					\n				\n				ZAŠTO JE OVAJ DOGAĐAJ TAKO VAŽAN?\n				\n			\n		Ako niste upoznati s temom autonomne mobilnosti\, svaki je četvrti petak posvećen diskretnom pristupu vaše samostalnosti i samoodređenja.\n\n			\n			\n					\n						\n\n	\n\n					\n				\n				KAKO SE MOGU UKLJUČITI I SUDJELOVATI?\n				\n			\n		Ovaj event namijenjen je isključivo pretplatnicima. Ukoliko ste zametnuli svoje upute o sudjelovanju na eventima\, javite se i poslat ćemo vam kopiju!\n\n			[/vc_column][/vc_row]
URL:https://www.opinion-net.com/hr/event/pristup-strucnjacima-autonomna-mobilnost/2025-09-19/
LOCATION:Collection Business Center\, Tuchlauben 7a\, Beč\, 1010\, Austrija
CATEGORIES:# autonomna mobilnost,# drugo mišljenje,u četiri oka
ATTACH;FMTTYPE=image/jpeg:https://www.opinion-net.com/wp-content/uploads/2024/02/F2F-Autonomus.jpg
END:VEVENT
BEGIN:VEVENT
DTSTART;TZID=Europe/Vienna:20250918T160000
DTEND;TZID=Europe/Vienna:20250918T170000
DTSTAMP:20260420T212101
CREATED:20240225T170650Z
LAST-MODIFIED:20250831T125126Z
UID:10008886-1758211200-1758214800@www.opinion-net.com
SUMMARY:Diskretno do stručnjaka za inovativno stanovanje
DESCRIPTION:[vc_row css=”.vc_custom_1710053130516{padding-top: 25px !important;}”][vc_column]\n			\n					\n						\n\n	\n\n					\n				\n				ZAŠTO JE OVAJ DOGAĐAJ TAKO VAŽAN?\n				\n			\n		Četvrti četvrtak u mjesecu rezerviran je za vaše diskretne upite o inovativnom stanovanju. Čak ako su vam razmišljanja avangardna i revolucionarna!\n\n			\n			\n					\n						\n\n	\n\n					\n				\n				KAKO SE MOGU UKLJUČITI I SUDJELOVATI?\n				\n			\n		Ovaj event namijenjen je isključivo pretplatnicima. Ukoliko ste zametnuli svoje upute o sudjelovanju na eventima\, javite se i poslat ćemo vam kopiju!\n\n			[/vc_column][/vc_row]
URL:https://www.opinion-net.com/hr/event/pristup-strucnjacima-inovativno-stanovanje/2025-09-18/
LOCATION:Collection Business Center\, Tuchlauben 7a\, Beč\, 1010\, Austrija
CATEGORIES:# drugo mišljenje,# inovativno stanovanje,u četiri oka
ATTACH;FMTTYPE=image/jpeg:https://www.opinion-net.com/wp-content/uploads/2024/02/F2F-Immo.jpg
END:VEVENT
BEGIN:VEVENT
DTSTART;TZID=Europe/Vienna:20250916T160000
DTEND;TZID=Europe/Vienna:20250916T170000
DTSTAMP:20260420T212101
CREATED:20240225T165818Z
LAST-MODIFIED:20250831T124415Z
UID:10008850-1758038400-1758042000@www.opinion-net.com
SUMMARY:Diskretno do stručnjaka za aktivno starenje
DESCRIPTION:[vc_row css=”.vc_custom_1710053130516{padding-top: 25px !important;}”][vc_column]\n			\n					\n						\n\n	\n\n					\n				\n				ZAŠTO JE OVAJ DOGAĐAJ TAKO VAŽAN?\n				\n			\n		Četvrtog utorka u mjesecu omogućeno vam je da nam diskretno kažete svoje interese dok tražimo informacije vezane uz aktivno starenje.\n\n			\n			\n					\n						\n\n	\n\n					\n				\n				KAKO SE MOGU UKLJUČITI I SUDJELOVATI?\n				\n			\n		Ovaj event namijenjen je isključivo pretplatnicima. Ukoliko ste zametnuli svoje upute o sudjelovanju na eventima\, javite se i poslat ćemo vam kopiju!\n\n			[/vc_column][/vc_row]
URL:https://www.opinion-net.com/hr/event/pristup-strucnjacima-aktivno-starenje/2025-09-16/
LOCATION:Collection Business Center\, Tuchlauben 7a\, Beč\, 1010\, Austrija
CATEGORIES:# aktivno starenje,# drugo mišljenje,u četiri oka
ATTACH;FMTTYPE=image/jpeg:https://www.opinion-net.com/wp-content/uploads/2024/02/F2F-Aging.jpg
END:VEVENT
BEGIN:VEVENT
DTSTART;TZID=Europe/Vienna:20250915T160000
DTEND;TZID=Europe/Vienna:20250915T170000
DTSTAMP:20260420T212101
CREATED:20240225T164601Z
LAST-MODIFIED:20250906T192942Z
UID:10008814-1757952000-1757955600@www.opinion-net.com
SUMMARY:Diskretno do stručnjaka za moderno zdravlje
DESCRIPTION:[vc_row css=”.vc_custom_1710053130516{padding-top: 25px !important;}”][vc_column]\n			\n					\n						\n\n	\n\n					\n				\n				ZAŠTO JE OVAJ DOGAĐAJ TAKO VAŽAN?\n				\n			\n		Vaše interese diskretno možete stavite u središte naše potrage za zdravstvenim informacijama svakog četvrtog ponedjeljka u mjesecu\n\n			\n			\n					\n						\n\n	\n\n					\n				\n				KAKO SE MOGU UKLJUČITI I SUDJELOVATI?\n				\n			\n		Ovaj event namijenjen je isključivo pretplatnicima. Ukoliko ste zametnuli svoje upute o sudjelovanju na eventima\, javite se i poslat ćemo vam kopiju!\n\n			[/vc_column][/vc_row]
URL:https://www.opinion-net.com/hr/event/pristup-strucnjacima-moderno-zdravlje/2025-09-15/
LOCATION:Collection Business Center\, Tuchlauben 7a\, Beč\, 1010\, Austrija
CATEGORIES:# drugo mišljenje,u četiri oka
ATTACH;FMTTYPE=image/jpeg:https://www.opinion-net.com/wp-content/uploads/2024/02/F2F-Health.jpg
END:VEVENT
END:VCALENDAR