BEGIN:VCALENDAR
VERSION:2.0
PRODID:-//OpinioNet - ECPv6.15.20//NONSGML v1.0//EN
CALSCALE:GREGORIAN
METHOD:PUBLISH
X-WR-CALNAME:OpinioNet
X-ORIGINAL-URL:https://www.opinion-net.com
X-WR-CALDESC:Events for OpinioNet
REFRESH-INTERVAL;VALUE=DURATION:PT1H
X-Robots-Tag:noindex
X-PUBLISHED-TTL:PT1H
BEGIN:VTIMEZONE
TZID:Europe/Vienna
BEGIN:DAYLIGHT
TZOFFSETFROM:+0100
TZOFFSETTO:+0200
TZNAME:CEST
DTSTART:20240331T010000
END:DAYLIGHT
BEGIN:STANDARD
TZOFFSETFROM:+0200
TZOFFSETTO:+0100
TZNAME:CET
DTSTART:20241027T010000
END:STANDARD
BEGIN:DAYLIGHT
TZOFFSETFROM:+0100
TZOFFSETTO:+0200
TZNAME:CEST
DTSTART:20250330T010000
END:DAYLIGHT
BEGIN:STANDARD
TZOFFSETFROM:+0200
TZOFFSETTO:+0100
TZNAME:CET
DTSTART:20251026T010000
END:STANDARD
BEGIN:DAYLIGHT
TZOFFSETFROM:+0100
TZOFFSETTO:+0200
TZNAME:CEST
DTSTART:20260329T010000
END:DAYLIGHT
BEGIN:STANDARD
TZOFFSETFROM:+0200
TZOFFSETTO:+0100
TZNAME:CET
DTSTART:20261025T010000
END:STANDARD
END:VTIMEZONE
BEGIN:VEVENT
DTSTART;TZID=Europe/Vienna:20250918T190000
DTEND;TZID=Europe/Vienna:20250918T200000
DTSTAMP:20260421T011210
CREATED:20250904T181416Z
LAST-MODIFIED:20250904T181603Z
UID:10011973-1758222000-1758225600@www.opinion-net.com
SUMMARY:Find your second home
DESCRIPTION:[vc_row css=”.vc_custom_1710049368370{padding-top: 25px !important;}”][vc_column]\n			\n					\n						\n\n	\n\n					\n				\n				WHY DOES THIS EVENT MATTER?\n				\n			\n		Due to the extremely high cost of housing and the exceptionally high proportion of single persons and childless couples in the population over 50\, the needs and interests of expatriates and their families with regard to the use of health and social services in the country of origin are significant.\n\n			\n			\n					\n						\n\n	\n\n					\n				\n				HOW TO GET INVOLVED AND PARTICIPATE?\n				\n			\n		The terms and conditions of participation will be sent to subscribers by e-mail. \nIf you are not yet a subscriber and would like to take part in this event\, please contact us using the form on this page (join-us/subscription) or write to us and send an e-mail to the address welcome.desk (@) opinion-net.com.\n\n			\n			\n					\n						\n\n	\n\n					\n				\n				HOW DO I MAINTAIN MY PRIVACY?\n				\n			\n		We understand your need for individuality and privacy. OpinioNet dynamically adapts to what subscribers want and need. \nIf you would like to participate discreetly\, send an email to office (@) opinion-net.com with “Discretion” in the subject line and you will receive instructions on how to select the available protection options!\n\n			[/vc_column][/vc_row]
URL:https://www.opinion-net.com/event/find-your-second-home-jf/2025-09-18/
CATEGORIES:# innovative housing,jour-fixe
ATTACH;FMTTYPE=image/jpeg:https://www.opinion-net.com/wp-content/uploads/2024/02/Find-a-second-home.jpg
LOCATION:https://www.opinion-net.com/event/find-your-second-home-jf/2025-09-18/
END:VEVENT
BEGIN:VEVENT
DTSTART;TZID=Europe/Vienna:20250918T190000
DTEND;TZID=Europe/Vienna:20250918T200000
DTSTAMP:20260421T011210
CREATED:20250904T134915Z
LAST-MODIFIED:20251118T202951Z
UID:10011620-1758222000-1758225600@www.opinion-net.com
SUMMARY:Second Home – Asset for Big and Small
DESCRIPTION:[vc_row css=”.vc_custom_1710049368370{padding-top: 25px !important;}”][vc_column]\n			\n					\n						\n\n	\n\n					\n				\n				WHY DOES THIS EVENT MATTER?\n				\n			\n		Analyzing local and global conditions\, plans and trends leads to the conclusion that mobile healthcare and welfare services should be developed\, improved and integrated into tourism. And vice versa\, integration of health into tourism!\n\n			\n			\n					\n						\n\n	\n\n					\n				\n				HOW TO GET INVOLVED AND PARTICIPATE?\n				\n			\n		The terms and conditions of participation will be sent to subscribers by e-mail. \nIf you are not yet a subscriber and would like to take part in this event\, please contact us using the form on this page (join-us/subscription) or write to us and send an e-mail to the address welcome.desk (@) opinion-net.com.\n\n			\n			\n					\n						\n\n	\n\n					\n				\n				HOW DO I MAINTAIN MY PRIVACY?\n				\n			\n		We understand your need for individuality and privacy. OpinioNet dynamically adapts to what subscribers want and need. \nIf you would like to participate discreetly\, send an email to office (@) opinion-net.com with “Discretion” in the subject line and you will receive instructions on how to select the available protection options!\n\n			[/vc_column][/vc_row]
URL:https://www.opinion-net.com/event/second-home-asset-for-big-and-small-or/2025-09-18/
CATEGORIES:# innovative housing,focus group
ATTACH;FMTTYPE=image/jpeg:https://www.opinion-net.com/wp-content/uploads/2023/04/Asset-for-Big-and-Small.jpg
LOCATION:https://www.opinion-net.com/event/second-home-asset-for-big-and-small-or/2025-09-18/
END:VEVENT
BEGIN:VEVENT
DTSTART;TZID=Europe/Vienna:20250918T160000
DTEND;TZID=Europe/Vienna:20250918T170000
DTSTAMP:20260421T011210
CREATED:20240225T170650Z
LAST-MODIFIED:20250906T193549Z
UID:10008862-1758211200-1758214800@www.opinion-net.com
SUMMARY:Discreet to experts in innovative housing
DESCRIPTION:[vc_row css=”.vc_custom_1710053130516{padding-top: 25px !important;}”][vc_column]\n			\n					\n						\n\n	\n\n					\n				\n				WHY DOES THIS EVENT MATTER?\n				\n			\n		The fourth Thursday of the month is reserved for your discreet inquiries about innovative living. Even if your thoughts are avant-garde and revolutionary!\n\n			\n			\n					\n						\n\n	\n\n					\n				\n				HOW TO GET INVOLVED AND PARTICIPATE?\n				\n			\n		This event is for subscribers only. If you have misplaced your instructions for attending events\, please contact us. We will send you a copy!\n\n			[/vc_column][/vc_row]
URL:https://www.opinion-net.com/event/discreet-to-experts-in-innovative-housing/2025-09-18/
LOCATION:Collection Business Center\, Tuchlauben 7a\, Vienna\, 1010\, Austria
CATEGORIES:# innovative housing,# second opinion,one-to-one
ATTACH;FMTTYPE=image/jpeg:https://www.opinion-net.com/wp-content/uploads/2024/02/F2F-Immo.jpg
END:VEVENT
BEGIN:VEVENT
DTSTART;TZID=Europe/Vienna:20250916T190000
DTEND;TZID=Europe/Vienna:20250916T200000
DTSTAMP:20260421T011210
CREATED:20250904T180431Z
LAST-MODIFIED:20250904T181105Z
UID:10011926-1758049200-1758052800@www.opinion-net.com
SUMMARY:Self-financing of geriatric care
DESCRIPTION:[vc_row css=”.vc_custom_1710049368370{padding-top: 25px !important;}”][vc_column]\n			\n					\n						\n\n	\n\n					\n				\n				WHY DOES THIS EVENT MATTER?\n				\n			\n		The increased demand for short-term and occasional care\, the high demands of users of health and social services are some of the challenges of modern society. The answers to how to provide funds for the care of the aging population lie in the exchange of experience and knowledge. How do personal needs assessments work for the individual and the family?\n\n			\n			\n					\n						\n\n	\n\n					\n				\n				HOW TO GET INVOLVED AND PARTICIPATE?\n				\n			\n		The terms and conditions of participation will be sent to subscribers by e-mail. \nIf you are not yet a subscriber and would like to take part in this event\, please contact us using the form on this page (join-us/subscription) or write to us and send an e-mail to the address welcome.desk (@) opinion-net.com.\n\n			\n			\n					\n						\n\n	\n\n					\n				\n				HOW DO I MAINTAIN MY PRIVACY?\n				\n			\n		We understand your need for individuality and privacy. OpinioNet dynamically adapts to what subscribers want and need. \nIf you would like to participate discreetly\, send an email to office (@) opinion-net.com with “Discretion” in the subject line and you will receive instructions on how to select the available protection options!\n\n			[/vc_column][/vc_row]
URL:https://www.opinion-net.com/event/self-financing-of-geriatric-care-jf/2025-09-16/
CATEGORIES:# active aging,jour-fixe
ATTACH;FMTTYPE=image/jpeg:https://www.opinion-net.com/wp-content/uploads/2024/02/Financing-geriatric-care.jpg
LOCATION:https://www.opinion-net.com/event/self-financing-of-geriatric-care-jf/2025-09-16/
END:VEVENT
BEGIN:VEVENT
DTSTART;TZID=Europe/Vienna:20250916T190000
DTEND;TZID=Europe/Vienna:20250916T200000
DTSTAMP:20260421T011210
CREATED:20250904T134205Z
LAST-MODIFIED:20251118T202853Z
UID:10011597-1758049200-1758052800@www.opinion-net.com
SUMMARY:Truths and misconceptions about seniors
DESCRIPTION:[vc_row css=”.vc_custom_1710049368370{padding-top: 25px !important;}”][vc_column]\n			\n					\n						\n\n	\n\n					\n				\n				WHY DOES THIS EVENT MATTER?\n				\n			\n		By questioning stereotypes\, we hope to contribute to a more accurate and nuanced understanding of older people and aging.\n\n			\n			\n					\n						\n\n	\n\n					\n				\n				HOW TO GET INVOLVED AND PARTICIPATE?\n				\n			\n		The terms and conditions of participation will be sent to subscribers by e-mail. \nIf you are not yet a subscriber and would like to take part in this event\, please contact us using the form on this page (join-us/subscription) or write to us and send an e-mail to the address welcome.desk (@) opinion-net.com.\n\n			\n			\n					\n						\n\n	\n\n					\n				\n				HOW DO I MAINTAIN MY PRIVACY?\n				\n			\n		We understand your need for individuality and privacy. OpinioNet dynamically adapts to what subscribers want and need. \nIf you would like to participate discreetly\, send an email to office (@) opinion-net.com with “Discretion” in the subject line and you will receive instructions on how to select the available protection options!\n\n			[/vc_column][/vc_row]
URL:https://www.opinion-net.com/event/truths-and-misconceptions-about-seniors-or/2025-09-16/
CATEGORIES:# active aging,focus group
ATTACH;FMTTYPE=image/jpeg:https://www.opinion-net.com/wp-content/uploads/2023/04/Truths-about-seniors.jpg
LOCATION:https://www.opinion-net.com/event/truths-and-misconceptions-about-seniors-or/2025-09-16/
END:VEVENT
BEGIN:VEVENT
DTSTART;TZID=Europe/Vienna:20250916T160000
DTEND;TZID=Europe/Vienna:20250916T170000
DTSTAMP:20260421T011210
CREATED:20240225T165818Z
LAST-MODIFIED:20250906T193308Z
UID:10008826-1758038400-1758042000@www.opinion-net.com
SUMMARY:Discreet to experts in active aging
DESCRIPTION:[vc_row css=”.vc_custom_1710053130516{padding-top: 25px !important;}”][vc_column]\n			\n					\n						\n\n	\n\n					\n				\n				WHY DOES THIS EVENT MATTER?\n				\n			\n		On the fourth Tuesday of the month\, you are invited to discreetly share your interests as we search for information related to active aging.\n\n			\n			\n					\n						\n\n	\n\n					\n				\n				HOW TO GET INVOLVED AND PARTICIPATE?\n				\n			\n		This event is for subscribers only. If you have misplaced your instructions for attending events\, please contact us. We will send you a copy!\n\n			[/vc_column][/vc_row]
URL:https://www.opinion-net.com/event/discreet-to-experts-in-active-aging/2025-09-16/
LOCATION:Collection Business Center\, Tuchlauben 7a\, Vienna\, 1010\, Austria
CATEGORIES:# active aging,# second opinion,one-to-one
ATTACH;FMTTYPE=image/jpeg:https://www.opinion-net.com/wp-content/uploads/2024/02/F2F-Aging.jpg
END:VEVENT
BEGIN:VEVENT
DTSTART;TZID=Europe/Vienna:20250915T190000
DTEND;TZID=Europe/Vienna:20250915T200000
DTSTAMP:20260421T011210
CREATED:20250904T175304Z
LAST-MODIFIED:20250904T175516Z
UID:10011891-1757962800-1757966400@www.opinion-net.com
SUMMARY:Health as a tool for success
DESCRIPTION:[vc_row css=”.vc_custom_1710049368370{padding-top: 25px !important;}”][vc_column]\n			\n					\n						\n\n	\n\n					\n				\n				WHY DOES THIS EVENT MATTER?\n				\n			\n		Being healthy allows professional success\, smooth running of family life\, enjoying a vacation\, building a home\, and planning for the future…\n\n			\n			\n					\n						\n\n	\n\n					\n				\n				HOW TO GET INVOLVED AND PARTICIPATE?\n				\n			\n		The terms and conditions of participation will be sent to subscribers by e-mail. \nIf you are not yet a subscriber and would like to take part in this event\, please contact us using the form on this page (join-us/subscription) or write to us and send an e-mail to the address welcome.desk (@) opinion-net.com.\n\n			\n			\n					\n						\n\n	\n\n					\n				\n				HOW DO I MAINTAIN MY PRIVACY?\n				\n			\n		We understand your need for individuality and privacy. OpinioNet dynamically adapts to what subscribers want and need. \nIf you would like to participate discreetly\, send an email to office (@) opinion-net.com with “Discretion” in the subject line and you will receive instructions on how to select the available protection options!\n\n			[/vc_column][/vc_row]
URL:https://www.opinion-net.com/event/health-as-a-tool-for-success-jf/2025-09-15/
CATEGORIES:# modern health,jour-fixe
ATTACH;FMTTYPE=image/jpeg:https://www.opinion-net.com/wp-content/uploads/2024/02/Tool-for-success.jpg
LOCATION:https://www.opinion-net.com/event/health-as-a-tool-for-success-jf/2025-09-15/
END:VEVENT
BEGIN:VEVENT
DTSTART;TZID=Europe/Vienna:20250915T190000
DTEND;TZID=Europe/Vienna:20250915T200000
DTSTAMP:20260421T011210
CREATED:20250904T133131Z
LAST-MODIFIED:20251118T202722Z
UID:10011550-1757962800-1757966400@www.opinion-net.com
SUMMARY:My doctor won't talk to me!
DESCRIPTION:[vc_row gap=”20″ css=”.vc_custom_1718249732046{padding-top: 25px !important;}”][vc_column]\n			\n					\n						\n\n	\n\n					\n				\n				WHY DOES THIS EVENT MATTER?\n				\n			\n		It is important to learn how to make the most of the short time that doctors can dedicate to each patient.\n\n			\n			\n					\n						\n\n	\n\n					\n				\n				HOW TO GET INVOLVED AND PARTICIPATE?\n				\n			\n		The terms and conditions of participation will be sent to subscribers by e-mail. \nIf you are not yet a subscriber and would like to take part in this event\, please contact us using the form on this page (join-us/subscription) or write to us and send an e-mail to the address welcome.desk (@) opinion-net.com.\n\n			\n			\n					\n						\n\n	\n\n					\n				\n				HOW DO I MAINTAIN MY PRIVACY?\n				\n			\n		We understand your need for individuality and privacy. OpinioNet dynamically adapts to what subscribers want and need. \nIf you would like to participate discreetly\, send an email to office (@) opinion-net.com with “Discretion” in the subject line and you will receive instructions on how to select the available protection options!\n\n			[/vc_column][/vc_row]
URL:https://www.opinion-net.com/event/my-doctor-wont-talk-to-me-or/2025-09-15/
CATEGORIES:# modern health,focus group
ATTACH;FMTTYPE=image/jpeg:https://www.opinion-net.com/wp-content/uploads/2023/04/Help.jpg
LOCATION:https://www.opinion-net.com/event/my-doctor-wont-talk-to-me-or/2025-09-15/
END:VEVENT
BEGIN:VEVENT
DTSTART;TZID=Europe/Vienna:20250915T160000
DTEND;TZID=Europe/Vienna:20250915T170000
DTSTAMP:20260421T011210
CREATED:20240225T164601Z
LAST-MODIFIED:20250906T192740Z
UID:10008790-1757952000-1757955600@www.opinion-net.com
SUMMARY:Discreet to experts in modern health
DESCRIPTION:[vc_row css=”.vc_custom_1710053130516{padding-top: 25px !important;}”][vc_column]\n			\n					\n						\n\n	\n\n					\n				\n				WHY DOES THIS EVENT MATTER?\n				\n			\n		Every fourth Monday of the month\, you can discreetly put your interests at the center of our search for health information.\n\n			\n			\n					\n						\n\n	\n\n					\n				\n				HOW TO GET INVOLVED AND PARTICIPATE?\n				\n			\n		This event is for subscribers only. If you have misplaced your instructions for attending events\, please contact us. We will send you a copy!\n\n			[/vc_column][/vc_row]
URL:https://www.opinion-net.com/event/discreet-to-experts-in-modern-health/2025-09-15/
LOCATION:Collection Business Center\, Tuchlauben 7a\, Vienna\, 1010\, Austria
CATEGORIES:# modern health,# second opinion,one-to-one
ATTACH;FMTTYPE=image/jpeg:https://www.opinion-net.com/wp-content/uploads/2024/02/F2F-Health.jpg
END:VEVENT
BEGIN:VEVENT
DTSTART;TZID=Europe/Vienna:20250903T170000
DTEND;TZID=Europe/Vienna:20250903T200000
DTSTAMP:20260421T011210
CREATED:20240208T225823Z
LAST-MODIFIED:20250902T172830Z
UID:10000560-1756918800-1756929600@www.opinion-net.com
SUMMARY:Ocean of costs
DESCRIPTION:[vc_row css=”.vc_custom_1710049368370{padding-top: 25px !important;}”][vc_column]\n			\n					\n						\n\n	\n\n					\n				\n				WHY DOES THIS EVENT MATTER?\n				\n			\n		The process of transforming the patient into a consumer leads to the active participation of the patient in the treatment process. The costs of illness are therefore very often invisible\, unpredictable and high. In particular\, the indirect costs are surprising and threatening.\n\n			\n			\n					\n						\n\n	\n\n					\n				\n				HOW TO GET INVOLVED AND PARTICIPATE?\n				\n			\n		The terms and conditions of participation will be sent to subscribers by e-mail. \nIf you are not yet a subscriber and would like to take part in this event\, please contact us using the form on this page (join-us/subscription) or write to us and send an e-mail to the address welcome.desk (@) opinion-net.com. \n\n\n			\n			\n					\n						\n\n	\n\n					\n				\n				HOW DO I MAINTAIN MY PRIVACY?\n				\n			\n		We understand your need for individuality and privacy. OpinioNet dynamically adapts to what subscribers want and need. \nIf you would like to participate discreetly\, send an email to office (@) opinion-net.com with “Discretion” in the subject line and you will receive instructions on how to select the available protection options!\n\n			\n			\n					\n						\n\n	\n\n					\n				\n				HOW IS MULTILINGUALISM ENSURED?\n				\n			\n		17.00-.18.00 EN \n18.00-19.00 DE \n19.00-20.00 HR \nThe English version of the program will take place unconditionally. The German and Croatian versions depend on reaching a minimum number of participants. The organizer reserves the right to modify or cancel these versions with timely notice to all registered participants.\nThe list of speakers and the detailed program will be published as soon as they become available\, so please stay tuned for our updates.\n\n			[/vc_column][/vc_row]
URL:https://www.opinion-net.com/event/ocean-of-costs/
CATEGORIES:# modern health,# monthly theme,lecture
ATTACH;FMTTYPE=image/jpeg:https://www.opinion-net.com/wp-content/uploads/2023/04/Modern-health.jpg
LOCATION:https://www.opinion-net.com/event/ocean-of-costs/
END:VEVENT
END:VCALENDAR