BEGIN:VCALENDAR
VERSION:2.0
PRODID:-//OpinioNet - ECPv6.15.20//NONSGML v1.0//EN
CALSCALE:GREGORIAN
METHOD:PUBLISH
X-WR-CALNAME:OpinioNet
X-ORIGINAL-URL:https://www.opinion-net.com
X-WR-CALDESC:Events for OpinioNet
REFRESH-INTERVAL;VALUE=DURATION:PT1H
X-Robots-Tag:noindex
X-PUBLISHED-TTL:PT1H
BEGIN:VTIMEZONE
TZID:Europe/Vienna
BEGIN:DAYLIGHT
TZOFFSETFROM:+0100
TZOFFSETTO:+0200
TZNAME:CEST
DTSTART:20250330T010000
END:DAYLIGHT
BEGIN:STANDARD
TZOFFSETFROM:+0200
TZOFFSETTO:+0100
TZNAME:CET
DTSTART:20251026T010000
END:STANDARD
BEGIN:DAYLIGHT
TZOFFSETFROM:+0100
TZOFFSETTO:+0200
TZNAME:CEST
DTSTART:20260329T010000
END:DAYLIGHT
BEGIN:STANDARD
TZOFFSETFROM:+0200
TZOFFSETTO:+0100
TZNAME:CET
DTSTART:20261025T010000
END:STANDARD
BEGIN:DAYLIGHT
TZOFFSETFROM:+0100
TZOFFSETTO:+0200
TZNAME:CEST
DTSTART:20270328T010000
END:DAYLIGHT
BEGIN:STANDARD
TZOFFSETFROM:+0200
TZOFFSETTO:+0100
TZNAME:CET
DTSTART:20271031T010000
END:STANDARD
END:VTIMEZONE
BEGIN:VEVENT
DTSTART;TZID=Europe/Vienna:20260422T160000
DTEND;TZID=Europe/Vienna:20260422T170000
DTSTAMP:20260422T115754
CREATED:20260308T010032Z
LAST-MODIFIED:20260308T010832Z
UID:10013503-1776873600-1776877200@www.opinion-net.com
SUMMARY:Lounge second opinion
DESCRIPTION:[vc_row css=”.vc_custom_1710053130516{padding-top: 25px !important;}”][vc_column]\n			\n					\n						\n\n	\n\n					\n				\n				MEETING OF PERSPECTIVE AND EXPERIENCE\n				\n			\n		The Lounge Perspective meets practice connects young talents with experienced seniors. Young participants bring new questions\, energy\, and a fresh perspective on the topics shaping modern life. Seniors bring experience\, an understanding of life circumstances\, and the ability to see the bigger picture. \nIn this encounter\, a space emerges for conversations that are not only an exchange of opinions but also an opportunity to turn different perspectives into a shared reflection on practical solutions related to health\, housing\, mobility\, and ways of living.\n\n			\n			\n					\n						\n\n	\n\n					\n				\n				EXAMPLES OF INTERGENERATIONAL COLLABORATION\n				\n			\n		In many innovation and social projects\, younger and older generations are intentionally brought together because such cooperation often leads to new ideas and more realistic solutions. \nExamples include: \nReverse mentoring in international companies \nIn companies such as General Electric\, PwC\, IBM\, and Unilever\, younger employees mentor senior colleagues in areas such as digital technologies and emerging social trends\, while seniors share their experience in decision-making and understanding long-term consequences. \nIntergenerational innovation labs \nAt universities and in startup programs\, different generations of participants are increasingly brought together deliberately to combine the creativity of younger people with the experience of older participants. Such teams often arrive at more practical and sustainable solutions. \nActive ageing programs in Europe \nInitiatives such as Generations Working Together in the United Kingdom or intergenerational housing projects in the Netherlands connect younger and older people through joint activities\, reducing social isolation and encouraging the exchange of experience. \nHealth and social projects \nIn many health-related projects\, patients\, researchers\, and different generations work together to develop solutions that better reflect the real needs of people. \nThese examples show that bringing different generations together around concrete life topics often leads to deeper understanding and more practical solutions — exactly the kind of space that the Lounge Perspective meets practice aims to create.\n\n			\n			\n					\n						\n\n	\n\n					\n				\n				FORMAT\n				\n			\n		Meetings take place online\, and occasionally\, based on the interest of participants\, in-person meetings may also be organized.\n\n			\n			\n					\n						\n\n	\n\n					\n				\n				LANGUAGE\n				\n			\n		OpinioNet is designed to enable people from different countries and life situations to communicate. \nIn written communication used to express interest in participating in the Lounge\, support will be provided to those who are not comfortable with foreign languages\, and groups will be able to agree on one of three languages: English\, German\, or Croatian.\n\n			[/vc_column][/vc_row]
URL:https://www.opinion-net.com/event/lounge-second-opinion/2026-04-22/
CATEGORIES:# second opinion,lounge
ATTACH;FMTTYPE=image/jpeg:https://www.opinion-net.com/wp-content/uploads/2026/03/SECOND-OPINION.jpg
LOCATION:https://www.opinion-net.com/event/lounge-second-opinion/2026-04-22/
END:VEVENT
BEGIN:VEVENT
DTSTART;TZID=Europe/Vienna:20260422T190000
DTEND;TZID=Europe/Vienna:20260422T200000
DTSTAMP:20260422T115754
CREATED:20250905T070817Z
LAST-MODIFIED:20250906T194707Z
UID:10013238-1776884400-1776888000@www.opinion-net.com
SUMMARY:The hybrid society in the lens of the topic of the month
DESCRIPTION:[vc_row css=”.vc_custom_1710049368370{padding-top: 25px !important;}”][vc_column]\n			\n					\n						\n\n	\n\n					\n				\n				WHY DOES THIS EVENT MATTER?\n				\n			\n		Over the past decade\, consumerism has led to new ways of communicating and new rules of conduct for all those involved in healthcare and aging.\n\n			\n			\n					\n						\n\n	\n\n					\n				\n				HOW TO GET INVOLVED AND PARTICIPATE?\n				\n			\n		The terms and conditions of participation will be sent to subscribers by e-mail. \nIf you are not yet a subscriber and would like to take part in this event\, please contact us using the form on this page (join-us/subscription) or write to us and send an e-mail to the address welcome.desk (@) opinion-net.com.\n\n			\n			\n					\n						\n\n	\n\n					\n				\n				HOW DO I MAINTAIN MY PRIVACY?\n				\n			\n		We understand your need for individuality and privacy. OpinioNet dynamically adapts to what subscribers want and need. \nIf you would like to participate discreetly\, send an email to office (@) opinion-net.com with “Discretion” in the subject line and you will receive instructions on how to select the available protection options!\n\n			[/vc_column][/vc_row]
URL:https://www.opinion-net.com/event/the-hybrid-society-in-the-lens-of-the-topic-of-the-month-en/2026-04-22/
CATEGORIES:# monthly theme,# second opinion
ATTACH;FMTTYPE=image/jpeg:https://www.opinion-net.com/wp-content/uploads/2024/02/Opinion-on-Hybrid-society.jpg
LOCATION:https://www.opinion-net.com/event/the-hybrid-society-in-the-lens-of-the-topic-of-the-month-en/2026-04-22/
END:VEVENT
END:VCALENDAR