BEGIN:VCALENDAR
VERSION:2.0
PRODID:-//OpinioNet - ECPv6.15.20//NONSGML v1.0//EN
CALSCALE:GREGORIAN
METHOD:PUBLISH
X-WR-CALNAME:OpinioNet
X-ORIGINAL-URL:https://www.opinion-net.com
X-WR-CALDESC:Events for OpinioNet
REFRESH-INTERVAL;VALUE=DURATION:PT1H
X-Robots-Tag:noindex
X-PUBLISHED-TTL:PT1H
BEGIN:VTIMEZONE
TZID:Europe/Vienna
BEGIN:DAYLIGHT
TZOFFSETFROM:+0100
TZOFFSETTO:+0200
TZNAME:CEST
DTSTART:20250330T010000
END:DAYLIGHT
BEGIN:STANDARD
TZOFFSETFROM:+0200
TZOFFSETTO:+0100
TZNAME:CET
DTSTART:20251026T010000
END:STANDARD
BEGIN:DAYLIGHT
TZOFFSETFROM:+0100
TZOFFSETTO:+0200
TZNAME:CEST
DTSTART:20260329T010000
END:DAYLIGHT
BEGIN:STANDARD
TZOFFSETFROM:+0200
TZOFFSETTO:+0100
TZNAME:CET
DTSTART:20261025T010000
END:STANDARD
BEGIN:DAYLIGHT
TZOFFSETFROM:+0100
TZOFFSETTO:+0200
TZNAME:CEST
DTSTART:20270328T010000
END:DAYLIGHT
BEGIN:STANDARD
TZOFFSETFROM:+0200
TZOFFSETTO:+0100
TZNAME:CET
DTSTART:20271031T010000
END:STANDARD
END:VTIMEZONE
BEGIN:VEVENT
DTSTART;TZID=Europe/Vienna:20260420T160000
DTEND;TZID=Europe/Vienna:20260420T170000
DTSTAMP:20260420T120242
CREATED:20240225T164601Z
LAST-MODIFIED:20250906T192740Z
UID:10013073-1776700800-1776704400@www.opinion-net.com
SUMMARY:Discreet to experts in modern health
DESCRIPTION:[vc_row css=”.vc_custom_1710053130516{padding-top: 25px !important;}”][vc_column]\n			\n					\n						\n\n	\n\n					\n				\n				WHY DOES THIS EVENT MATTER?\n				\n			\n		Every fourth Monday of the month\, you can discreetly put your interests at the center of our search for health information.\n\n			\n			\n					\n						\n\n	\n\n					\n				\n				HOW TO GET INVOLVED AND PARTICIPATE?\n				\n			\n		This event is for subscribers only. If you have misplaced your instructions for attending events\, please contact us. We will send you a copy!\n\n			[/vc_column][/vc_row]
URL:https://www.opinion-net.com/event/discreet-to-experts-in-modern-health/2026-04-20/
LOCATION:Collection Business Center\, Tuchlauben 7a\, Vienna\, 1010\, Austria
CATEGORIES:# modern health,# second opinion,one-to-one
ATTACH;FMTTYPE=image/jpeg:https://www.opinion-net.com/wp-content/uploads/2024/02/F2F-Health.jpg
END:VEVENT
BEGIN:VEVENT
DTSTART;TZID=Europe/Vienna:20260420T190000
DTEND;TZID=Europe/Vienna:20260420T200000
DTSTAMP:20260420T120242
CREATED:20250904T133131Z
LAST-MODIFIED:20251118T202722Z
UID:10011557-1776711600-1776715200@www.opinion-net.com
SUMMARY:My doctor won't talk to me!
DESCRIPTION:[vc_row gap=”20″ css=”.vc_custom_1718249732046{padding-top: 25px !important;}”][vc_column]\n			\n					\n						\n\n	\n\n					\n				\n				WHY DOES THIS EVENT MATTER?\n				\n			\n		It is important to learn how to make the most of the short time that doctors can dedicate to each patient.\n\n			\n			\n					\n						\n\n	\n\n					\n				\n				HOW TO GET INVOLVED AND PARTICIPATE?\n				\n			\n		The terms and conditions of participation will be sent to subscribers by e-mail. \nIf you are not yet a subscriber and would like to take part in this event\, please contact us using the form on this page (join-us/subscription) or write to us and send an e-mail to the address welcome.desk (@) opinion-net.com.\n\n			\n			\n					\n						\n\n	\n\n					\n				\n				HOW DO I MAINTAIN MY PRIVACY?\n				\n			\n		We understand your need for individuality and privacy. OpinioNet dynamically adapts to what subscribers want and need. \nIf you would like to participate discreetly\, send an email to office (@) opinion-net.com with “Discretion” in the subject line and you will receive instructions on how to select the available protection options!\n\n			[/vc_column][/vc_row]
URL:https://www.opinion-net.com/event/my-doctor-wont-talk-to-me-or/2026-04-20/
CATEGORIES:# modern health,focus group
ATTACH;FMTTYPE=image/jpeg:https://www.opinion-net.com/wp-content/uploads/2023/04/Help.jpg
LOCATION:https://www.opinion-net.com/event/my-doctor-wont-talk-to-me-or/2026-04-20/
END:VEVENT
BEGIN:VEVENT
DTSTART;TZID=Europe/Vienna:20260420T190000
DTEND;TZID=Europe/Vienna:20260420T200000
DTSTAMP:20260420T120242
CREATED:20250904T175304Z
LAST-MODIFIED:20250904T175516Z
UID:10011898-1776711600-1776715200@www.opinion-net.com
SUMMARY:Health as a tool for success
DESCRIPTION:[vc_row css=”.vc_custom_1710049368370{padding-top: 25px !important;}”][vc_column]\n			\n					\n						\n\n	\n\n					\n				\n				WHY DOES THIS EVENT MATTER?\n				\n			\n		Being healthy allows professional success\, smooth running of family life\, enjoying a vacation\, building a home\, and planning for the future…\n\n			\n			\n					\n						\n\n	\n\n					\n				\n				HOW TO GET INVOLVED AND PARTICIPATE?\n				\n			\n		The terms and conditions of participation will be sent to subscribers by e-mail. \nIf you are not yet a subscriber and would like to take part in this event\, please contact us using the form on this page (join-us/subscription) or write to us and send an e-mail to the address welcome.desk (@) opinion-net.com.\n\n			\n			\n					\n						\n\n	\n\n					\n				\n				HOW DO I MAINTAIN MY PRIVACY?\n				\n			\n		We understand your need for individuality and privacy. OpinioNet dynamically adapts to what subscribers want and need. \nIf you would like to participate discreetly\, send an email to office (@) opinion-net.com with “Discretion” in the subject line and you will receive instructions on how to select the available protection options!\n\n			[/vc_column][/vc_row]
URL:https://www.opinion-net.com/event/health-as-a-tool-for-success-jf/2026-04-20/
CATEGORIES:# modern health,jour-fixe
ATTACH;FMTTYPE=image/jpeg:https://www.opinion-net.com/wp-content/uploads/2024/02/Tool-for-success.jpg
LOCATION:https://www.opinion-net.com/event/health-as-a-tool-for-success-jf/2026-04-20/
END:VEVENT
END:VCALENDAR