BEGIN:VCALENDAR
VERSION:2.0
PRODID:-//OpinioNet - ECPv6.15.20//NONSGML v1.0//EN
CALSCALE:GREGORIAN
METHOD:PUBLISH
X-ORIGINAL-URL:https://www.opinion-net.com/de/
X-WR-CALDESC:Veranstaltungen für OpinioNet
REFRESH-INTERVAL;VALUE=DURATION:PT1H
X-Robots-Tag:noindex
X-PUBLISHED-TTL:PT1H
BEGIN:VTIMEZONE
TZID:Europe/Vienna
BEGIN:DAYLIGHT
TZOFFSETFROM:+0100
TZOFFSETTO:+0200
TZNAME:CEST
DTSTART:20260329T010000
END:DAYLIGHT
BEGIN:STANDARD
TZOFFSETFROM:+0200
TZOFFSETTO:+0100
TZNAME:CET
DTSTART:20261025T010000
END:STANDARD
BEGIN:DAYLIGHT
TZOFFSETFROM:+0100
TZOFFSETTO:+0200
TZNAME:CEST
DTSTART:20270328T010000
END:DAYLIGHT
BEGIN:STANDARD
TZOFFSETFROM:+0200
TZOFFSETTO:+0100
TZNAME:CET
DTSTART:20271031T010000
END:STANDARD
BEGIN:DAYLIGHT
TZOFFSETFROM:+0100
TZOFFSETTO:+0200
TZNAME:CEST
DTSTART:20280326T010000
END:DAYLIGHT
BEGIN:STANDARD
TZOFFSETFROM:+0200
TZOFFSETTO:+0100
TZNAME:CET
DTSTART:20281029T010000
END:STANDARD
END:VTIMEZONE
BEGIN:VEVENT
DTSTART;TZID=Europe/Vienna:20270406T160000
DTEND;TZID=Europe/Vienna:20270406T170000
DTSTAMP:20260422T135451
CREATED:20240223T114831Z
LAST-MODIFIED:20260417T193350Z
UID:10014988-1807027200-1807030800@www.opinion-net.com
SUMMARY:Fragen Sie Experten über autonome Mobilität
DESCRIPTION:[vc_row css=“.vc_custom_1710053130516{padding-top: 25px !important;}“][vc_column]\n			\n					\n						\n\n	\n\n					\n				\n				WARUM IST DIESE VERANSTALTUNG SO WICHTIG?\n				\n			\n		Die regelmäßigen Treffen jeden ersten Freitag im Monat sind der Erforschung der autonomen Mobilität als Symbol für Selbstständigkeit und Selbstbestimmung gewidmet. Wir werden Zeit damit verbringen\, Informationen und Meinungen aus der ganzen Welt zu sammeln\, um eine Grundlage für qualitativ hochwertige Diskussionen unserer Abonnenten zu schaffen.\n\n			\n			\n					\n						\n\n	\n\n					\n				\n				WIE KANN ICH MICH EINBRINGEN UND BETEILIGEN?\n				\n			\n		Diese Veranstaltung ist nur für Abonnentinnen und Abonnenten bestimmt. Sollten Sie Ihre Teilnahmeunterlagen verlegt haben\, kontaktieren Sie uns bitte. Wir senden Ihnen gerne eine Kopie zu!\n\n			[/vc_column][/vc_row]
URL:https://www.opinion-net.com/de/event/ressourcennetz-autonome-mobilitaet/2027-04-06/
CATEGORIES:# autonome mobilität,frag den experten
ATTACH;FMTTYPE=image/jpeg:https://www.opinion-net.com/wp-content/uploads/2025/08/diskret-autonome-mobiliaet.jpg
LOCATION:https://www.opinion-net.com/de/event/ressourcennetz-autonome-mobilitaet/2027-04-06/
END:VEVENT
BEGIN:VEVENT
DTSTART;TZID=Europe/Vienna:20270407T170000
DTEND;TZID=Europe/Vienna:20270407T200000
DTSTAMP:20260422T135451
CREATED:20240212T151602Z
LAST-MODIFIED:20260417T133953Z
UID:10000582-1807117200-1807128000@www.opinion-net.com
SUMMARY:Effektive Kommunikation
DESCRIPTION:[vc_row css=“.vc_custom_1710049368370{padding-top: 25px !important;}“][vc_column]\n			\n					\n						\n\n	\n\n					\n				\n				WARUM IST DIESE VERANSTALTUNG SO WICHTIG?\n				\n			\n		Neben dem Gleichgewicht zwischen Rechten und Realität ist es wichtig zu lernen\, wie man die sehr kurze Zeit\, die Ärzte und andere Fachleute dem Patienten widmen können\, optimal nutzen kann.\n\n			\n			\n					\n						\n\n	\n\n					\n				\n				WIE KANN ICH MICH EINBRINGEN UND BETEILIGEN?\n				\n			\n		Die Teilnahmebedingungen werden den Abonnenten per E-Mail zugesandt. \nWenn Sie noch kein Abonnent sind und an dieser Veranstaltung teilnehmen möchten\, kontaktieren Sie uns bitte über das Formular auf dieser Seite (machen-sie-mit/abo/) oder schreiben Sie uns und senden Sie eine E-Mail an die Adresse welcome.desk (@) opinion-net.com. \n\n\n			\n			\n					\n						\n\n	\n\n					\n				\n				WIE BEHALTE ICH MEINE PRIVATSPHÄRE BEI?\n				\n			\n		Wir verstehen Ihr Bedürfnis nach Individualität und Privatsphäre. OpinioNet passt sich dynamisch an die Wünsche und Bedürfnisse der Abonnenten an. \nWenn Sie diskret teilnehmen möchten\, senden Sie eine E-Mail an office (@) opinion-net.com mit dem Betreff „Diskretion“ und Sie erhalten Anweisungen zur Auswahl der verfügbaren Schutzoptionen!\n\n			\n			\n					\n						\n\n	\n\n					\n				\n				WIE WIRD MEHRSPRACHIGKEIT SICHERGESTELLT?\n				\n			\n		17.00-.18.00 EN \n18.00-19.00 DE \n19.00-20.00 HR \nDie englische Version des Programms findet in jedem Fall statt. Die deutsche und kroatische Version hängen vom Erreichen einer Mindestanzahl von Teilnehmern ab. Der Veranstalter behält sich das Recht vor\, diese Versionen zu ändern oder abzusagen\, wobei alle angemeldeten Teilnehmer rechtzeitig informiert werden.\nDie Liste der Vortragenden und das detaillierte Programm werden veröffentlicht\, sobald sie verfügbar sind. Bitte verfolgen Sie daher unsere Mitteilungen.\n\n			[/vc_column][/vc_row]
URL:https://www.opinion-net.com/de/event/effektive-kommunikation/
CATEGORIES:# moderne gesundheit,# monatsthema,vortrag
ATTACH;FMTTYPE=image/jpeg:https://www.opinion-net.com/wp-content/uploads/2023/04/Effective-communication.jpg
LOCATION:https://www.opinion-net.com/de/event/effektive-kommunikation/
END:VEVENT
BEGIN:VEVENT
DTSTART;TZID=Europe/Vienna:20270412T160000
DTEND;TZID=Europe/Vienna:20270412T170000
DTSTAMP:20260422T135451
CREATED:20240216T113652Z
LAST-MODIFIED:20260422T111523Z
UID:10015773-1807545600-1807549200@www.opinion-net.com
SUMMARY:Club Sommer Relax
DESCRIPTION:[vc_row css=“.vc_custom_1710053130516{padding-top: 25px !important;}“][vc_column]Ihr sicherer Hafen der Unbeschwertheit und Geborgenheit \nDer Summer Relax Club – Ihr Sommerhafen der Unbeschwertheit und Geborgenheit. Mit regelmäßigen Treffen bieten wir Ihnen Unterstützung und Sicherheit\, damit jedes Detail Ihres Urlaubs überprüft und mit Ihren Wünschen abgestimmt ist. \nWarum teilnehmen? \nManchmal ist das größte Abenteuer – den Frieden zu finden. Der Summer Relax Club ist Ihr sicherer Hafen\, in dem jedes Detail bereits für Ihren Komfort gestaltet ist. \nIhre Vorteile\nEinzigartiges Erlebnis: An jedem zweiten Montag im Monat treffen wir uns\, um ein Gefühl von sommerlicher Ruhe und Gelassenheit zu schaffen. Die Treffen geben Ihnen die Möglichkeit\, Fragen zu stellen\, Informationen zu erhalten und sich unterstützt zu fühlen – damit Sie sich entspannen und Ihren Urlaub genießen können. \nDer Summer Relax Club ist keine Planung von Gruppenreisen\, sondern dauerhafte Unterstützung. Sie reisen allein oder in Gesellschaft\, ans Meer oder in die Berge\, mit der Gewissheit\, dass alles\, was Sie brauchen\, bereits vorgesehen ist. \nSo funktioniert es\nDie Treffen finden in erster Linie online statt. Wenn die Gruppe es wünscht\, können gelegentlich auch Live-Veranstaltungen an ausgewählten Sommerdestinationen organisiert werden. \nEnglisch als Hauptsprache\, mit möglicher Übersetzungsunterstützung ins Deutsche und Kroatische – damit sich alle einbringen und sicher fühlen können. \nMehr lesen…[/vc_column][/vc_row]
URL:https://www.opinion-net.com/de/event/club-sommer-relax/2027-04-12/
LOCATION:Nur für Mitglieder
CATEGORIES:club
ATTACH;FMTTYPE=image/jpeg:https://www.opinion-net.com/wp-content/uploads/2026/03/CLUB-SUMMER-RELAX.jpg
END:VEVENT
BEGIN:VEVENT
DTSTART;TZID=Europe/Vienna:20270421T160000
DTEND;TZID=Europe/Vienna:20270421T170000
DTSTAMP:20260422T135451
CREATED:20240221T165407Z
LAST-MODIFIED:20260418T103940Z
UID:10014813-1808323200-1808326800@www.opinion-net.com
SUMMARY:Diskrete Gespräche
DESCRIPTION:[vc_row css=“.vc_custom_1710053617773{padding-top: 25px !important;}“][vc_column]\n			\n					\n						\n\n	\n\n					\n				\n				ÜBERBRÜCKUNG FÜR VIELBESCHÄFTIGTE FAMILIEN\n				\n			\n		Die Live-Beratung ist besonders hilfreich für Familienangehörige von Menschen\, die einen anspruchsvollen Beruf haben oder weit von zu Hause entfernt arbeiten.\nEin virtuelles Treffen erleichtert die Planung und Organisation\, ohne dass Sie sofort nach Wien reisen müssen. Sparen Sie Zeit und Reisekosten\, indem Sie sich zunächst online vorbereiten.\n\n			\n			\n					\n						\n\n	\n\n					\n				\n				BEQUEM FÜR BERUFSTÄTIGE IN DER FERNE\n				\n			\n		Das Team des Instituts möchte sicherstellen\, dass sich Ihre Anreise nach Wien für eine Beratung wirklich lohnt. Deshalb tauschen wir zunächst grundlegende Informationen virtuell aus – stets unter Wahrung Ihrer Privatsphäre.\nSo können Sie eine informierte und sichere Entscheidung treffen\, bevor Sie persönlich kommen.\n\n			\n			\n					\n						\n\n	\n\n					\n				\n				PERSÖNLICHE EINLADUNG\n				\n			\n		Bitte senden Sie eine E-Mail mit dem Betreff „Für Dr. Gjukić – Sprechstunde“ an welcome.desk(@)gesundheitsverwaltung.at.\nSie erhalten anschließend detaillierte Anweisungen und direkte persönliche Kommunikation mit mir.\nDie Anzahl der Termine pro Monat ist begrenzt – eine frühzeitige Buchung wird empfohlen.\n\n			\n			\n					\n						\n\n	\n\n					\n				\n				WIE WIRD MEHRSPRACHIGKEIT SICHERGESTELLT?\n				\n			\n		Im Alltag verwende ich Englisch\, Deutsch und Kroatisch. Außerdem spreche ich fließend Serbisch und Bosnisch sowie Slowenisch und Mazedonisch ohne Dolmetscher.\nSie können mich gerne in der Sprache kontaktieren\, in der Sie sich am wohlsten fühlen!\nDr. Marijan Gjukić\n\n			[/vc_column][/vc_row]
URL:https://www.opinion-net.com/de/event/diskrete-gespraeche/2027-04-21/
LOCATION:Collection Business Center\, Tuchlauben 7a\, Wien\, 1010\, Österreich
CATEGORIES:# zweite meinung,unter vier augen
ATTACH;FMTTYPE=image/png:https://www.opinion-net.com/wp-content/uploads/2024/02/Diskret-bei-Marijan-Gjukic.png
END:VEVENT
END:VCALENDAR