BEGIN:VCALENDAR
VERSION:2.0
PRODID:-//OpinioNet - ECPv6.15.20//NONSGML v1.0//EN
CALSCALE:GREGORIAN
METHOD:PUBLISH
X-ORIGINAL-URL:https://www.opinion-net.com/de/
X-WR-CALDESC:Veranstaltungen für OpinioNet
REFRESH-INTERVAL;VALUE=DURATION:PT1H
X-Robots-Tag:noindex
X-PUBLISHED-TTL:PT1H
BEGIN:VTIMEZONE
TZID:Europe/Vienna
BEGIN:DAYLIGHT
TZOFFSETFROM:+0100
TZOFFSETTO:+0200
TZNAME:CEST
DTSTART:20250330T010000
END:DAYLIGHT
BEGIN:STANDARD
TZOFFSETFROM:+0200
TZOFFSETTO:+0100
TZNAME:CET
DTSTART:20251026T010000
END:STANDARD
BEGIN:DAYLIGHT
TZOFFSETFROM:+0100
TZOFFSETTO:+0200
TZNAME:CEST
DTSTART:20260329T010000
END:DAYLIGHT
BEGIN:STANDARD
TZOFFSETFROM:+0200
TZOFFSETTO:+0100
TZNAME:CET
DTSTART:20261025T010000
END:STANDARD
BEGIN:DAYLIGHT
TZOFFSETFROM:+0100
TZOFFSETTO:+0200
TZNAME:CEST
DTSTART:20270328T010000
END:DAYLIGHT
BEGIN:STANDARD
TZOFFSETFROM:+0200
TZOFFSETTO:+0100
TZNAME:CET
DTSTART:20271031T010000
END:STANDARD
END:VTIMEZONE
BEGIN:VEVENT
DTSTART;TZID=Europe/Vienna:20260204T170000
DTEND;TZID=Europe/Vienna:20260204T200000
DTSTAMP:20260422T122014
CREATED:20240208T234621Z
LAST-MODIFIED:20250830T135542Z
UID:10000577-1770224400-1770235200@www.opinion-net.com
SUMMARY:Verständliche Telemedizin
DESCRIPTION:[vc_row css=“.vc_custom_1710049368370{padding-top: 25px !important;}“][vc_column]\n			\n					\n						\n\n	\n\n					\n				\n				WARUM IST DIESE VERANSTALTUNG SO WICHTIG?\n				\n			\n		Der Nutzer des telemedizinischen Dienstes muss die Technologie verstehen\, muss eine geschützte Identität genießen und sollte einen Arztbesuch nicht mit einer telemedizinischen Beratung oder Untersuchung vergleichen.\n\n			\n			\n					\n						\n\n	\n\n					\n				\n				WIE KANN ICH MICH EINBRINGEN UND BETEILIGEN?\n				\n			\n		Die Teilnahmebedingungen werden den Abonnenten per E-Mail zugesandt.  \nWenn Sie noch kein Abonnent sind und an dieser Veranstaltung teilnehmen möchten\, kontaktieren Sie uns bitte über das Formular auf dieser Seite (machen-sie-mit/abo/) oder schreiben Sie uns und senden Sie eine E-Mail an die Adresse welcome.desk (@) opinion-net.com.\n\n			\n			\n					\n						\n\n	\n\n					\n				\n				WIE BEHALTE ICH MEINE PRIVATSPHÄRE BEI?\n				\n			\n		Wir verstehen Ihr Bedürfnis nach Individualität und Privatsphäre. OpinioNet passt sich dynamisch an die Wünsche und Bedürfnisse der Abonnenten an. \nWenn Sie diskret teilnehmen möchten\, senden Sie eine E-Mail an office (@) opinion-net.com mit dem Betreff „Diskretion“ und Sie erhalten Anweisungen zur Auswahl der verfügbaren Schutzoptionen!\n\n			\n			\n					\n						\n\n	\n\n					\n				\n				WIE WIRD MEHRSPRACHIGKEIT SICHERGESTELLT?\n				\n			\n		17.00-.18.00 EN \n18.00-19.00 DE \n19.00-20.00 HR \nDie englische Version des Programms findet in jedem Fall statt. Die deutsche und kroatische Version hängen vom Erreichen einer Mindestanzahl von Teilnehmern ab. Der Veranstalter behält sich das Recht vor\, diese Versionen zu ändern oder abzusagen\, wobei alle angemeldeten Teilnehmer rechtzeitig informiert werden.\nDie Liste der Vortragenden und das detaillierte Programm werden veröffentlicht\, sobald sie verfügbar sind. Bitte verfolgen Sie daher unsere Mitteilungen.\n\n			[/vc_column][/vc_row]
URL:https://www.opinion-net.com/de/event/verstaendliche-telemedizin/
CATEGORIES:# autonome mobilität,# moderne gesundheit,vortrag
ATTACH;FMTTYPE=image/jpeg:https://www.opinion-net.com/wp-content/uploads/2023/04/Understandable-telemedicine.jpg
LOCATION:https://www.opinion-net.com/de/event/verstaendliche-telemedizin/
END:VEVENT
BEGIN:VEVENT
DTSTART;TZID=Europe/Vienna:20260216T160000
DTEND;TZID=Europe/Vienna:20260216T170000
DTSTAMP:20260422T122014
CREATED:20240225T164601Z
LAST-MODIFIED:20250906T192858Z
UID:10013082-1771257600-1771261200@www.opinion-net.com
SUMMARY:Diskret zu Experten für moderne Gesundheit
DESCRIPTION:[vc_row css=“.vc_custom_1710053130516{padding-top: 25px !important;}“][vc_column]\n			\n					\n						\n\n	\n\n					\n				\n				WARUM IST DIESE VERANSTALTUNG SO WICHTIG?\n				\n			\n		Jeden vierten Montag im Monat können Sie uns diskret Ihre Interessen bei der Suche nach Gesundheitsinformationen mitteilen.\n\n			\n			\n					\n						\n\n	\n\n					\n				\n				WIE KANN ICH MICH EINBRINGEN UND BETEILIGEN?\n				\n			\n		Diese Veranstaltung ist nur für Abonnentinnen und Abonnenten bestimmt. Sollten Sie Ihre Teilnahmeunterlagen verlegt haben\, kontaktieren Sie uns bitte. Wir senden Ihnen gerne eine Kopie zu!\n\n			[/vc_column][/vc_row]
URL:https://www.opinion-net.com/de/event/zugang-zu-experten-moderne-gesundheit/2026-02-16/
LOCATION:Collection Business Center\, Tuchlauben 7a\, Wien\, 1010\, Österreich
CATEGORIES:# zweite meinung,unter vier augen
ATTACH;FMTTYPE=image/jpeg:https://www.opinion-net.com/wp-content/uploads/2024/02/F2F-Health.jpg
END:VEVENT
BEGIN:VEVENT
DTSTART;TZID=Europe/Vienna:20260217T160000
DTEND;TZID=Europe/Vienna:20260217T170000
DTSTAMP:20260422T122014
CREATED:20240225T165818Z
LAST-MODIFIED:20250831T124525Z
UID:10013115-1771344000-1771347600@www.opinion-net.com
SUMMARY:Diskret zu Experten für aktives Älterwerden
DESCRIPTION:[vc_row css=“.vc_custom_1710053130516{padding-top: 25px !important;}“][vc_column]\n			\n					\n						\n\n	\n\n					\n				\n				WARUM IST DIESE VERANSTALTUNG SO WICHTIG?\n				\n			\n		Am vierten Dienstag des Monats\, wenn wir auf der Suche nach Informationen über aktives Älterwerden sind\, können Sie uns diskret Ihre Interessen mitteilen.\n\n			\n			\n					\n						\n\n	\n\n					\n				\n				WIE KANN ICH MICH EINBRINGEN UND BETEILIGEN?\n				\n			\n		Diese Veranstaltung ist nur für Abonnentinnen und Abonnenten bestimmt. Sollten Sie Ihre Teilnahmeunterlagen verlegt haben\, kontaktieren Sie uns bitte. Wir senden Ihnen gerne eine Kopie zu!\n\n			[/vc_column][/vc_row]
URL:https://www.opinion-net.com/de/event/zugang-zu-experten-aktives-aelterwerden/2026-02-17/
LOCATION:Collection Business Center\, Tuchlauben 7a\, Wien\, 1010\, Österreich
CATEGORIES:# aktiv älterwerden,# zweite meinung,unter vier augen
ATTACH;FMTTYPE=image/jpeg:https://www.opinion-net.com/wp-content/uploads/2024/02/F2F-Aging.jpg
END:VEVENT
BEGIN:VEVENT
DTSTART;TZID=Europe/Vienna:20260219T160000
DTEND;TZID=Europe/Vienna:20260219T170000
DTSTAMP:20260422T122014
CREATED:20240225T170650Z
LAST-MODIFIED:20250831T125225Z
UID:10013148-1771516800-1771520400@www.opinion-net.com
SUMMARY:Diskret zu Experten für innovatives Wohnen
DESCRIPTION:[vc_row css=“.vc_custom_1710053130516{padding-top: 25px !important;}“][vc_column]\n			\n					\n						\n\n	\n\n					\n				\n				WARUM IST DIESE VERANSTALTUNG SO WICHTIG?\n				\n			\n		Der vierte Donnerstag des Monats ist für Ihre diskreten Anfragen zum Thema innovatives Wohnen reserviert. Auch wenn Ihre Ideen avantgardistisch und revolutionär sind!\n\n			\n			\n					\n						\n\n	\n\n					\n				\n				WIE KANN ICH MICH EINBRINGEN UND BETEILIGEN?\n				\n			\n		Diese Veranstaltung ist nur für Abonnentinnen und Abonnenten bestimmt. Sollten Sie Ihre Teilnahmeunterlagen verlegt haben\, kontaktieren Sie uns bitte. Wir senden Ihnen gerne eine Kopie zu!\n\n			[/vc_column][/vc_row]
URL:https://www.opinion-net.com/de/event/zugang-zu-experten-innovatives-wohnen/2026-02-19/
LOCATION:Collection Business Center\, Tuchlauben 7a\, Wien\, 1010\, Österreich
CATEGORIES:# innovatives wohnen,# zweite meinung,unter vier augen
ATTACH;FMTTYPE=image/jpeg:https://www.opinion-net.com/wp-content/uploads/2024/02/F2F-Immo.jpg
END:VEVENT
BEGIN:VEVENT
DTSTART;TZID=Europe/Vienna:20260220T160000
DTEND;TZID=Europe/Vienna:20260220T170000
DTSTAMP:20260422T122014
CREATED:20240226T153849Z
LAST-MODIFIED:20250831T142815Z
UID:10013181-1771603200-1771606800@www.opinion-net.com
SUMMARY:Diskret zu Experten für autonome Mobilität
DESCRIPTION:[vc_row css=“.vc_custom_1710053130516{padding-top: 25px !important;}“][vc_column]\n			\n					\n						\n\n	\n\n					\n				\n				WARUM IST DIESE VERANSTALTUNG SO WICHTIG?\n				\n			\n		Wenn Sie mit dem Thema autonome Mobilität noch nicht vertraut sind\, ist jeder vierte Freitag im Monat für Ihre diskrete Anfrage zum Thema Selbständigkeit und Selbstbestimmung reserviert.\n\n			\n			\n					\n						\n\n	\n\n					\n				\n				WIE KANN ICH MICH EINBRINGEN UND BETEILIGEN?\n				\n			\n		Diese Veranstaltung ist nur für Abonnentinnen und Abonnenten bestimmt. Sollten Sie Ihre Teilnahmeunterlagen verlegt haben\, kontaktieren Sie uns bitte. Wir senden Ihnen gerne eine Kopie zu!\n\n			[/vc_column][/vc_row]
URL:https://www.opinion-net.com/de/event/zugang-zu-experten-autonome-mobilitaet/2026-02-20/
LOCATION:Collection Business Center\, Tuchlauben 7a\, Wien\, 1010\, Österreich
CATEGORIES:# autonome mobilität,# zweite meinung,unter vier augen
ATTACH;FMTTYPE=image/jpeg:https://www.opinion-net.com/wp-content/uploads/2024/02/F2F-Autonomus.jpg
END:VEVENT
END:VCALENDAR