BEGIN:VCALENDAR
VERSION:2.0
PRODID:-//OpinioNet - ECPv6.15.20//NONSGML v1.0//EN
CALSCALE:GREGORIAN
METHOD:PUBLISH
X-WR-CALNAME:OpinioNet
X-ORIGINAL-URL:https://www.opinion-net.com/de/
X-WR-CALDESC:Veranstaltungen für OpinioNet
REFRESH-INTERVAL;VALUE=DURATION:PT1H
X-Robots-Tag:noindex
X-PUBLISHED-TTL:PT1H
BEGIN:VTIMEZONE
TZID:Europe/Vienna
BEGIN:DAYLIGHT
TZOFFSETFROM:+0100
TZOFFSETTO:+0200
TZNAME:CEST
DTSTART:20250330T010000
END:DAYLIGHT
BEGIN:STANDARD
TZOFFSETFROM:+0200
TZOFFSETTO:+0100
TZNAME:CET
DTSTART:20251026T010000
END:STANDARD
BEGIN:DAYLIGHT
TZOFFSETFROM:+0100
TZOFFSETTO:+0200
TZNAME:CEST
DTSTART:20260329T010000
END:DAYLIGHT
BEGIN:STANDARD
TZOFFSETFROM:+0200
TZOFFSETTO:+0100
TZNAME:CET
DTSTART:20261025T010000
END:STANDARD
BEGIN:DAYLIGHT
TZOFFSETFROM:+0100
TZOFFSETTO:+0200
TZNAME:CEST
DTSTART:20270328T010000
END:DAYLIGHT
BEGIN:STANDARD
TZOFFSETFROM:+0200
TZOFFSETTO:+0100
TZNAME:CET
DTSTART:20271031T010000
END:STANDARD
END:VTIMEZONE
BEGIN:VEVENT
DTSTART;TZID=Europe/Vienna:20260420T160000
DTEND;TZID=Europe/Vienna:20260420T170000
DTSTAMP:20260421T000000
CREATED:20240225T164601Z
LAST-MODIFIED:20250906T192858Z
UID:10013084-1776700800-1776704400@www.opinion-net.com
SUMMARY:Diskret zu Experten für moderne Gesundheit
DESCRIPTION:[vc_row css=“.vc_custom_1710053130516{padding-top: 25px !important;}“][vc_column]\n			\n					\n						\n\n	\n\n					\n				\n				WARUM IST DIESE VERANSTALTUNG SO WICHTIG?\n				\n			\n		Jeden vierten Montag im Monat können Sie uns diskret Ihre Interessen bei der Suche nach Gesundheitsinformationen mitteilen.\n\n			\n			\n					\n						\n\n	\n\n					\n				\n				WIE KANN ICH MICH EINBRINGEN UND BETEILIGEN?\n				\n			\n		Diese Veranstaltung ist nur für Abonnentinnen und Abonnenten bestimmt. Sollten Sie Ihre Teilnahmeunterlagen verlegt haben\, kontaktieren Sie uns bitte. Wir senden Ihnen gerne eine Kopie zu!\n\n			[/vc_column][/vc_row]
URL:https://www.opinion-net.com/de/event/zugang-zu-experten-moderne-gesundheit/2026-04-20/
LOCATION:Collection Business Center\, Tuchlauben 7a\, Wien\, 1010\, Österreich
CATEGORIES:# zweite meinung,unter vier augen
ATTACH;FMTTYPE=image/jpeg:https://www.opinion-net.com/wp-content/uploads/2024/02/F2F-Health.jpg
END:VEVENT
BEGIN:VEVENT
DTSTART;TZID=Europe/Vienna:20260420T180000
DTEND;TZID=Europe/Vienna:20260420T190000
DTSTAMP:20260421T000001
CREATED:20250903T213645Z
LAST-MODIFIED:20250903T213749Z
UID:10010250-1776708000-1776711600@www.opinion-net.com
SUMMARY:Gesundheit als Werkzeug für den Erfolg
DESCRIPTION:[vc_row css=“.vc_custom_1710049368370{padding-top: 25px !important;}“][vc_column]\n			\n					\n						\n\n	\n\n					\n				\n				WARUM IST DIESE VERANSTALTUNG SO WICHTIG?\n				\n			\n		Gesund sein ermöglicht beruflichen Erfolg\, reibungsloses Familienleben\, Urlaub genießen\, ein Eigenheim bauen und für die Zukunft planen…\n\n			\n			\n					\n						\n\n	\n\n					\n				\n				WIE KANN ICH MICH EINBRINGEN UND BETEILIGEN?\n				\n			\n		Die Teilnahmebedingungen werden den Abonnenten per E-Mail zugesandt. \nWenn Sie noch kein Abonnent sind und an dieser Veranstaltung teilnehmen möchten\, kontaktieren Sie uns bitte über das Formular auf dieser Seite (machen-sie-mit/abo/) oder schreiben Sie uns und senden Sie eine E-Mail an die Adresse welcome.desk (@) opinion-net.com.\n\n			\n			\n					\n						\n\n	\n\n					\n				\n				WIE BEHALTE ICH MEINE PRIVATSPHÄRE BEI?\n				\n			\n		Wir verstehen Ihr Bedürfnis nach Individualität und Privatsphäre. OpinioNet passt sich dynamisch an die Wünsche und Bedürfnisse der Abonnenten an. \nWenn Sie diskret teilnehmen möchten\, senden Sie eine E-Mail an office (@) opinion-net.com mit dem Betreff „Diskretion“ und Sie erhalten Anweisungen zur Auswahl der verfügbaren Schutzoptionen!\n\n			[/vc_column][/vc_row]
URL:https://www.opinion-net.com/de/event/gesundheit-als-werkzeug-fuer-den-erfolg-4/2026-04-20/
CATEGORIES:# moderne gesundheit,jour-fixe
ATTACH;FMTTYPE=image/jpeg:https://www.opinion-net.com/wp-content/uploads/2024/02/Tool-for-success.jpg
LOCATION:https://www.opinion-net.com/de/event/gesundheit-als-werkzeug-fuer-den-erfolg-4/2026-04-20/
END:VEVENT
BEGIN:VEVENT
DTSTART;TZID=Europe/Vienna:20260420T180000
DTEND;TZID=Europe/Vienna:20260420T190000
DTSTAMP:20260421T000001
CREATED:20250904T112150Z
LAST-MODIFIED:20251118T215058Z
UID:10011186-1776708000-1776711600@www.opinion-net.com
SUMMARY:Mein Arzt spricht nicht mit mir!
DESCRIPTION:[vc_row gap=“20″ css=“.vc_custom_1718249732046{padding-top: 25px !important;}“][vc_column]\n			\n					\n						\n\n	\n\n					\n				\n				WARUM IST DIESE VERANSTALTUNG SO WICHTIG?\n				\n			\n		Es ist wichtig zu lernen\, wie man die sehr kurze Zeit\, die Ärzte einem Patienten widmen können\, optimal nutzt.\n\n			\n			\n					\n						\n\n	\n\n					\n				\n				WIE KANN ICH MICH EINBRINGEN UND BETEILIGEN?\n				\n			\n		Die Teilnahmebedingungen werden den Abonnenten per E-Mail zugesandt. \nWenn Sie noch kein Abonnent sind und an dieser Veranstaltung teilnehmen möchten\, kontaktieren Sie uns bitte über das Formular auf dieser Seite (machen-sie-mit/abo/) oder schreiben Sie uns und senden Sie eine E-Mail an die Adresse welcome.desk (@) opinion-net.com.\n\n			\n			\n					\n						\n\n	\n\n					\n				\n				WIE BEHALTE ICH MEINE PRIVATSPHÄRE BEI?\n				\n			\n		Wir verstehen Ihr Bedürfnis nach Individualität und Privatsphäre. OpinioNet passt sich dynamisch an die Wünsche und Bedürfnisse der Abonnenten an. \nWenn Sie diskret teilnehmen möchten\, senden Sie eine E-Mail an office (@) opinion-net.com mit dem Betreff „Diskretion“ und Sie erhalten Anweisungen zur Auswahl der verfügbaren Schutzoptionen!\n\n			[/vc_column][/vc_row]
URL:https://www.opinion-net.com/de/event/mein-arzt-spricht-nicht-mit-mir-or/2026-04-20/
CATEGORIES:# moderne gesundheit,fokusgruppe
ATTACH;FMTTYPE=image/jpeg:https://www.opinion-net.com/wp-content/uploads/2024/02/Hilfe.jpg
LOCATION:https://www.opinion-net.com/de/event/mein-arzt-spricht-nicht-mit-mir-or/2026-04-20/
END:VEVENT
END:VCALENDAR